BEGIN:VCALENDAR
VERSION:2.0
PRODID:-//ChamberMaster//Event Calendar 2.0//EN
METHOD:PUBLISH
X-PUBLISHED-TTL:P3D
REFRESH-INTERVAL:P3D
CALSCALE:GREGORIAN
BEGIN:VEVENT
DTSTART:20191026T150000Z
DTEND:20191026T210000Z
X-MICROSOFT-CDO-ALLDAYEVENT:FALSE
SUMMARY:Trick or Treat at The Barn
DESCRIPTION:Celebrate the last Saturday of Virginia wine month at Hunting Creek Vineyards in costume! Every participant will get their picture features on their website/Facebook and be entered into a drawing for a $40 gift certificate. Drawing will be held at 4:30\, you do not have to be in attendance at time of drawing to win.\n\nFull Circle Pizza will be serving up pizza for purchase.
X-ALT-DESC;FMTTYPE=text/html:Celebrate the last Saturday of Virginia wine month at Hunting Creek Vineyards in costume! Every participant will get their picture features on their website/Facebook and be entered into a drawing for a $40 gift certificate. Drawing will be held at 4:30\, you do not have to be in attendance at time of drawing to win.<br />\nFull Circle Pizza will be serving up pizza for purchase.
LOCATION:Hunting Creek Vineyards 2000 Addie Williams Trail Clover\, VA 24543
UID:e.845.14478
SEQUENCE:3
DTSTAMP:20260420T220014Z
URL:https://business.halifaxchamber.net/events/details/trick-or-treat-at-the-barn-14478
END:VEVENT

END:VCALENDAR
