BEGIN:VCALENDAR
VERSION:2.0
PRODID:-//ChamberMaster//Event Calendar 2.0//EN
METHOD:PUBLISH
X-PUBLISHED-TTL:P3D
REFRESH-INTERVAL:P3D
CALSCALE:GREGORIAN
BEGIN:VEVENT
DTSTART:20161031T220000Z
DTEND:20161101T000000Z
X-MICROSOFT-CDO-ALLDAYEVENT:FALSE
SUMMARY:Trick-or-Treat Trail
DESCRIPTION:Trick or Treat Trail
X-ALT-DESC;FMTTYPE=text/html:Trick or Treat Trail
LOCATION:Main Street in the Town of Halifax
UID:e.845.5720
SEQUENCE:3
DTSTAMP:20260424T211208Z
URL:https://business.halifaxchamber.net/events/details/trick-or-treat-trail-5720
END:VEVENT

END:VCALENDAR
