BEGIN:VCALENDAR
VERSION:2.0
PRODID:-//ChamberMaster//Event Calendar 2.0//EN
METHOD:PUBLISH
X-PUBLISHED-TTL:P3D
REFRESH-INTERVAL:P3D
CALSCALE:GREGORIAN
BEGIN:VEVENT
DTSTART:20190426T120000Z
DTEND:20190426T220000Z
X-MICROSOFT-CDO-ALLDAYEVENT:FALSE
SUMMARY:True Value Customer Appreciation Day
DESCRIPTION:True Value Customer Appreciation Day! \n\n\n\nSpecial prize drawings throughout the day with FREE hotdogs\, chips and drinks from 11:00am-2:00pm. \n\n\n\nCheck out the close-out demos and used equipment too!
X-ALT-DESC;FMTTYPE=text/html:True Value Customer Appreciation Day!&nbsp\;<br />\n<br />\nSpecial prize drawings throughout the day with FREE hotdogs\, chips and drinks from 11:00am-2:00pm.&nbsp\;<br />\n<br />\nCheck out the close-out demos and used equipment too!&nbsp\;
LOCATION:307 Broad Street South Boston\, VA
UID:e.845.12464
SEQUENCE:3
DTSTAMP:20260421T075623Z
URL:https://business.halifaxchamber.net/events/details/true-value-customer-appreciation-day-12464
END:VEVENT

END:VCALENDAR
