BEGIN:VCALENDAR
VERSION:2.0
PRODID:-//ChamberMaster//Event Calendar 2.0//EN
METHOD:PUBLISH
X-PUBLISHED-TTL:P3D
REFRESH-INTERVAL:P3D
CALSCALE:GREGORIAN
BEGIN:VEVENT
DTSTART:20180406T153000Z
DTEND:20180406T170000Z
X-MICROSOFT-CDO-ALLDAYEVENT:FALSE
SUMMARY:True Value Customer Appreciation Event
DESCRIPTION:Join True Value South Boston Hardware & Power Equipment for their Customer Appreciation Event!\n\nEnjoy free hotdogs\, cake and drinks from 11:30am-1:00pm Friday\, April 6\, 2018. \n\nRegister for many product giveaways\, including a gas grill! \n\n\n\nGet $300 off TItan HD Zero Turn Mowers through May 31\, 2018!
X-ALT-DESC;FMTTYPE=text/html:Join True Value South Boston Hardware &amp\; Power Equipment for their Customer Appreciation Event!<br />\nEnjoy free hotdogs\, cake and drinks from 11:30am-1:00pm Friday\, April 6\, 2018.&nbsp\;<br />\nRegister for many product giveaways\, including a gas grill!&nbsp\;<br />\n<br />\nGet $300 off TItan HD Zero Turn Mowers through May 31\, 2018!
LOCATION:307 Broad Street South Boston\, VA 24592
UID:e.845.8277
SEQUENCE:3
DTSTAMP:20260422T033230Z
URL:https://business.halifaxchamber.net/events/details/true-value-customer-appreciation-event-8277
END:VEVENT

END:VCALENDAR
