BEGIN:VCALENDAR
VERSION:2.0
PRODID:-//ChamberMaster//Event Calendar 2.0//EN
METHOD:PUBLISH
X-PUBLISHED-TTL:P3D
REFRESH-INTERVAL:P3D
CALSCALE:GREGORIAN
BEGIN:VEVENT
DTSTART:20191031T220000Z
DTEND:20191031T233000Z
X-MICROSOFT-CDO-ALLDAYEVENT:FALSE
SUMMARY:Trunk or Treat
DESCRIPTION:Instead of going house to house trick or treating children will go from car to car (trunk to trunk). Adults will pass out treats from the trunk or tailgate of their vehicle.\n\n\n\nPeople who want to decorate their trunks or tailgates and pass out candy to the children please call 434.349.9395 or contact a NHVFD Ladies' Auxiliary member by October 27th. All trunks need to be set up by 5:30 pm.
X-ALT-DESC;FMTTYPE=text/html:Instead of going house to house trick or treating children will go from car to car (trunk to trunk). Adults will pass out treats from the trunk or tailgate of their vehicle.<br />\n<br />\nPeople who want to decorate their trunks or tailgates and pass out candy to the children please call 434.349.9395 or contact a NHVFD Ladies&#39\; Auxiliary member by October 27th. All trunks need to be set up by 5:30 pm.
LOCATION:North Halifax Volunteer Fire and Rescue Department 4201 Leda Grove Road Nathalie\, Virginia 24577
UID:e.845.13304
SEQUENCE:3
DTSTAMP:20260420T233222Z
URL:https://business.halifaxchamber.net/events/details/trunk-or-treat-13304
END:VEVENT

END:VCALENDAR
