BEGIN:VCALENDAR
VERSION:2.0
PRODID:-//ChamberMaster//Event Calendar 2.0//EN
METHOD:PUBLISH
X-PUBLISHED-TTL:P3D
REFRESH-INTERVAL:P3D
CALSCALE:GREGORIAN
BEGIN:VEVENT
DTSTART:20200929T123000Z
DTEND:20200929T133000Z
X-MICROSOFT-CDO-ALLDAYEVENT:FALSE
SUMMARY:Tuesday Coffee Chats - Accounting Q & A
DESCRIPTION:Join Teresa Davis\, certified public accountant and partner with Hill & Davis\, CPA\, for an open discussion on effectively managing your financial records\, whether for daily operations or for today's critical function of loan documentation. \n\n \n\nWe appreciate any advance questions for research purposes\, and you can provide those during registration.
X-ALT-DESC;FMTTYPE=text/html:<div style="caret-color: rgb(37\, 78\, 112)\; color: rgb(37\, 78\, 112)\; font-family: &quot\;Century Gothic&quot\;\, Calibri\, Helvetica\, Arial\, sans-serif\; font-size: 14px\; text-size-adjust: auto\;"><span style="font-size: 16px\; color: rgb(76\, 76\, 76)\; font-family: &quot\;Lucida Sans Unicode&quot\;\, &quot\;Lucida Grande&quot\;\, sans-serif\;">Join </span><span style="font-size: 16px\; color: rgb(76\, 76\, 76)\; font-family: &quot\;Lucida Sans Unicode&quot\;\, &quot\;Lucida Grande&quot\;\, sans-serif\; font-weight: bold\;">Teresa Davis\, </span><span style="font-size: 16px\; color: rgb(76\, 76\, 76)\; font-family: &quot\;Lucida Sans Unicode&quot\;\, &quot\;Lucida Grande&quot\;\, sans-serif\;">certified public accountant and partner with Hill &amp\; Davis\,</span><span style="font-size: 16px\; color: rgb(64\, 64\, 64)\; font-family: Arial\, Verdana\, Helvetica\, sans-serif\;"> </span><span style="font-size: 16px\; color: rgb(76\, 76\, 76)\; font-family: &quot\;Lucida Sans Unicode&quot\;\, &quot\;Lucida Grande&quot\;\, sans-serif\;">CPA\,</span><span style="font-size: 16px\; color: rgb(76\, 76\, 76)\; font-family: &quot\;Lucida Sans Unicode&quot\;\, &quot\;Lucida Grande&quot\;\, sans-serif\; font-weight: bold\;"> </span><span style="font-size: 16px\; color: rgb(76\, 76\, 76)\; font-family: &quot\;Lucida Sans Unicode&quot\;\, &quot\;Lucida Grande&quot\;\, sans-serif\;">for an open discussion on effectively managing your financial records\, whether for daily operations or for today&rsquo\;s critical function of loan documentation.&nbsp\;</span></div>\n\n<div style="caret-color: rgb(37\, 78\, 112)\; color: rgb(37\, 78\, 112)\; font-family: &quot\;Century Gothic&quot\;\, Calibri\, Helvetica\, Arial\, sans-serif\; font-size: 14px\; text-size-adjust: auto\;">&nbsp\;</div>\n\n<div style="caret-color: rgb(37\, 78\, 112)\; color: rgb(37\, 78\, 112)\; font-family: &quot\;Century Gothic&quot\;\, Calibri\, Helvetica\, Arial\, sans-serif\; font-size: 14px\; text-size-adjust: auto\;"><span style="font-size: 16px\; color: rgb(76\, 76\, 76)\; font-family: &quot\;Lucida Sans Unicode&quot\;\, &quot\;Lucida Grande&quot\;\, sans-serif\;">We appreciate any advance questions for research purposes\, and you can provide those during registration.</span></div>\n
LOCATION:Register at: https://us02web.zoom.us/meeting/register/tZIqcOmrrzIuHtFVq5Xa5vn-IJ3En4XlI-7X
UID:e.845.17755
SEQUENCE:3
DTSTAMP:20260420T032023Z
URL:https://business.halifaxchamber.net/events/details/tuesday-coffee-chats-accounting-q-a-17755
END:VEVENT

END:VCALENDAR
