BEGIN:VCALENDAR
VERSION:2.0
PRODID:-//ChamberMaster//Event Calendar 2.0//EN
METHOD:PUBLISH
X-PUBLISHED-TTL:P3D
REFRESH-INTERVAL:P3D
CALSCALE:GREGORIAN
BEGIN:VEVENT
DTSTART:20200922T123000Z
DTEND:20200922T133000Z
X-MICROSOFT-CDO-ALLDAYEVENT:FALSE
SUMMARY:Tuesday Coffee Chats - Tips to Improve Your Business Website
DESCRIPTION:Could you use a few actionable tips to make your website better? Join Ilsa Loeser of Letterpress Communications as she dives into tips for old and new sites alike.\n\n \n\nWe appreciate any advance questions for research purposes\, and you can provide those during registration.
X-ALT-DESC;FMTTYPE=text/html:<div style="caret-color: rgb(37\, 78\, 112)\; color: rgb(37\, 78\, 112)\; font-family: &quot\;Century Gothic&quot\;\, Calibri\, Helvetica\, Arial\, sans-serif\; font-size: 14px\; text-size-adjust: auto\;"><span style="font-size: 16px\; color: rgb(76\, 76\, 76)\; font-family: &quot\;Lucida Sans Unicode&quot\;\, &quot\;Lucida Grande&quot\;\, sans-serif\;">Could you use a few actionable tips to make your website better? Join </span><span style="font-size: 16px\; color: rgb(76\, 76\, 76)\; font-family: &quot\;Lucida Sans Unicode&quot\;\, &quot\;Lucida Grande&quot\;\, sans-serif\; font-weight: bold\;">Ilsa Loeser</span><span style="font-size: 16px\; color: rgb(76\, 76\, 76)\; font-family: &quot\;Lucida Sans Unicode&quot\;\, &quot\;Lucida Grande&quot\;\, sans-serif\;"> of Letterpress Communications as she dives into </span><span style="font-size: 16px\; font-family: &quot\;Lucida Sans Unicode&quot\;\, &quot\;Lucida Grande&quot\;\, sans-serif\;">t</span><span style="font-size: 16px\; font-family: &quot\;Lucida Sans Unicode&quot\;\, &quot\;Lucida Grande&quot\;\, sans-serif\; color: rgb(76\, 76\, 76)\;">ips for old and new sites alike.</span></div>\n\n<div style="caret-color: rgb(37\, 78\, 112)\; color: rgb(37\, 78\, 112)\; font-family: &quot\;Century Gothic&quot\;\, Calibri\, Helvetica\, Arial\, sans-serif\; font-size: 14px\; text-size-adjust: auto\;">&nbsp\;</div>\n\n<div style="caret-color: rgb(37\, 78\, 112)\; color: rgb(37\, 78\, 112)\; font-family: &quot\;Century Gothic&quot\;\, Calibri\, Helvetica\, Arial\, sans-serif\; font-size: 14px\; text-size-adjust: auto\;"><span style="font-size: 16px\; color: rgb(76\, 76\, 76)\; font-family: &quot\;Lucida Sans Unicode&quot\;\, &quot\;Lucida Grande&quot\;\, sans-serif\;">We appreciate any advance questions for research purposes\, and you can provide those during registration.</span></div>\n
LOCATION:Register at: https://us02web.zoom.us/meeting/register/tZUvd-ygqjkuE9RhadZ140apmoUkSXIkhy4s
UID:e.845.17754
SEQUENCE:3
DTSTAMP:20260420T050630Z
URL:https://business.halifaxchamber.net/events/details/tuesday-coffee-chats-tips-to-improve-your-business-website-17754
END:VEVENT

END:VCALENDAR
