BEGIN:VCALENDAR
VERSION:2.0
PRODID:-//ChamberMaster//Event Calendar 2.0//EN
METHOD:PUBLISH
X-PUBLISHED-TTL:P3D
REFRESH-INTERVAL:P3D
CALSCALE:GREGORIAN
BEGIN:VEVENT
DTSTART:20200707T123000Z
DTEND:20200707T123000Z
X-MICROSOFT-CDO-ALLDAYEVENT:FALSE
SUMMARY:Tuesday Coffee Chats with the Experts
DESCRIPTION:Each Tuesday at 8:30 am\, Longwood SBDC will host an open forum via Zoom with subject matter experts. Tune in for an hour of discussion with consultants on current topics of interest to area businesses. \n\n \n\nOn Tuesday\, July 7th\, meet and chat with Teresa Davis\, CPA. Teresa specializes in helping small businesses navigate accounting practices and create effective accounting systems for their business. Teresa is a partner in Hill and Davis CPA's\, and has joined the LSBDC as a specialized contract consultant for businesses re-opening and recovering through this time of COVID-19.
X-ALT-DESC;FMTTYPE=text/html:<div style="caret-color: rgb(37\, 78\, 112)\; color: rgb(37\, 78\, 112)\; font-family: &quot\;Century Gothic&quot\;\, Calibri\, Helvetica\, Arial\, sans-serif\; font-size: 14px\; text-size-adjust: auto\;"><span style="font-size: 16px\; color: rgb(76\, 76\, 76)\; font-family: &quot\;Lucida Sans Unicode&quot\;\, &quot\;Lucida Grande&quot\;\, sans-serif\;">Each Tuesday at 8:30 am\, Longwood SBDC will host an open forum via Zoom with subject matter experts. Tune in for an hour of discussion with consultants on current topics of interest to area businesses. </span></div>\n\n<div style="caret-color: rgb(37\, 78\, 112)\; color: rgb(37\, 78\, 112)\; font-family: &quot\;Century Gothic&quot\;\, Calibri\, Helvetica\, Arial\, sans-serif\; font-size: 14px\; text-size-adjust: auto\;">&nbsp\;</div>\n\n<div style="caret-color: rgb(37\, 78\, 112)\; color: rgb(37\, 78\, 112)\; font-family: &quot\;Century Gothic&quot\;\, Calibri\, Helvetica\, Arial\, sans-serif\; font-size: 14px\; text-size-adjust: auto\;"><span style="font-size: 16px\; color: rgb(76\, 76\, 76)\; font-weight: bold\; font-family: &quot\;Lucida Sans Unicode&quot\;\, &quot\;Lucida Grande&quot\;\, sans-serif\;">On Tuesday\, July 7th\, meet and chat with Teresa Davis\, CPA</span><span style="font-size: 16px\; color: rgb(76\, 76\, 76)\; font-family: &quot\;Lucida Sans Unicode&quot\;\, &quot\;Lucida Grande&quot\;\, sans-serif\;">. Teresa specializes in helping small businesses navigate accounting practices and create effective accounting systems for their business. Teresa is a partner in Hill and Davis CPA&#39\;s\, and has joined the LSBDC as a specialized contract consultant for businesses re-opening and recovering through this time of COVID-19.</span></div>\n
LOCATION:Register at https://us02web.zoom.us/meeting/register/tZAlcOutqT0sG9dTP5bg6W40734RRCkF3D1_
UID:e.845.17713
SEQUENCE:3
DTSTAMP:20260420T062719Z
URL:https://business.halifaxchamber.net/events/details/tuesday-coffee-chats-with-the-experts-17713
END:VEVENT

END:VCALENDAR
