BEGIN:VCALENDAR
VERSION:2.0
PRODID:-//ChamberMaster//Event Calendar 2.0//EN
METHOD:PUBLISH
X-PUBLISHED-TTL:P3D
REFRESH-INTERVAL:P3D
CALSCALE:GREGORIAN
BEGIN:VEVENT
DTSTART:20200714T123000Z
DTEND:20200714T123000Z
X-MICROSOFT-CDO-ALLDAYEVENT:FALSE
SUMMARY:Tuesday Coffee Chats with the Experts
DESCRIPTION:Each Tuesday at 8:30 am\, Longwood SBDC will host an open forum via Zoom with subject matter experts. Tune in for an hour of discussion with consultants on current topics of interest to area businesses. \n\n \n\nOn Tuesday\, July 14th\, meet and chat with Ilsa Loeser\, owner of Letterpress Communications. Ilsa and her team work with small businesses on marketing strategies and branding\, with an emphasis on utilizing the right tools and methods\, online or off\, to effectively tell your story. Ilsa is a contract consultant with the LSBDC and has taken a special interest in helping businesses recover and grow through this time of COVID-19.
X-ALT-DESC;FMTTYPE=text/html:<div style="caret-color: rgb(37\, 78\, 112)\; color: rgb(37\, 78\, 112)\; font-family: &quot\;Century Gothic&quot\;\, Calibri\, Helvetica\, Arial\, sans-serif\; font-size: 14px\; text-size-adjust: auto\;"><span style="font-size: 16px\; color: rgb(76\, 76\, 76)\; font-family: &quot\;Lucida Sans Unicode&quot\;\, &quot\;Lucida Grande&quot\;\, sans-serif\;">Each Tuesday at 8:30 am\, Longwood SBDC will host an open forum via Zoom with subject matter experts. Tune in for an hour of discussion with consultants on current topics of interest to area businesses. </span></div>\n\n<div style="caret-color: rgb(37\, 78\, 112)\; color: rgb(37\, 78\, 112)\; font-family: &quot\;Century Gothic&quot\;\, Calibri\, Helvetica\, Arial\, sans-serif\; font-size: 14px\; text-size-adjust: auto\;">&nbsp\;</div>\n\n<div style="caret-color: rgb(37\, 78\, 112)\; color: rgb(37\, 78\, 112)\; font-family: &quot\;Century Gothic&quot\;\, Calibri\, Helvetica\, Arial\, sans-serif\; font-size: 14px\; text-size-adjust: auto\;"><span style="text-size-adjust: auto\; font-size: 16px\; color: rgb(76\, 76\, 76)\; font-weight: bold\; font-family: &quot\;Lucida Sans Unicode&quot\;\, &quot\;Lucida Grande&quot\;\, sans-serif\;">On Tuesday\, July 14th\, meet and chat with Ilsa Loeser\, owner of Letterpress Communications</span><span style="text-size-adjust: auto\; font-size: 16px\; color: rgb(76\, 76\, 76)\; font-family: &quot\;Lucida Sans Unicode&quot\;\, &quot\;Lucida Grande&quot\;\, sans-serif\;">. Ilsa and her team work with small businesses on marketing strategies and branding\, with an emphasis on utilizing the right tools and methods\, online or off\, to effectively tell your story. Ilsa is a contract consultant with the LSBDC and has taken a special interest in helping businesses recover and grow through this time of COVID-19</span><span style="font-size: 14px\; text-size-adjust: auto\; color: rgb(76\, 76\, 76)\; font-family: Lato\, sans-serif\;">.</span></div>\n
LOCATION:Register at https://us02web.zoom.us/meeting/register/tZwkdOquqzkqGdeRdt6g3jSkTSyOYxfOG_AJ
UID:e.845.17714
SEQUENCE:3
DTSTAMP:20260420T062759Z
URL:https://business.halifaxchamber.net/events/details/tuesday-coffee-chats-with-the-experts-17714
END:VEVENT

END:VCALENDAR
