BEGIN:VCALENDAR
VERSION:2.0
PRODID:-//ChamberMaster//Event Calendar 2.0//EN
METHOD:PUBLISH
X-PUBLISHED-TTL:P3D
REFRESH-INTERVAL:P3D
CALSCALE:GREGORIAN
BEGIN:VEVENT
DTSTART:20200915T123000Z
DTEND:20200915T133000Z
X-MICROSOFT-CDO-ALLDAYEVENT:FALSE
SUMMARY:Tuesday Coffee Chats - Workforce Soft Skills
DESCRIPTION:Do you feel that the soft skills within the current workforce could use a boost? Join Jeremy Satterfield of Microsoft Corporation and learn about their partnership with LinkedIn to enhance soft skills in the workplace. \n\n \n\nThese free and easily accessible online programs focus on skills you as employers value most\, from communication fundamentals and being a team player to advancing your critical thinking skills.\n\n \n\nWe appreciate any advance questions for research purposes\, and you can provide those during registration.
X-ALT-DESC;FMTTYPE=text/html:<div style="caret-color: rgb(37\, 78\, 112)\; color: rgb(37\, 78\, 112)\; font-family: &quot\;Century Gothic&quot\;\, Calibri\, Helvetica\, Arial\, sans-serif\; font-size: 14px\; text-size-adjust: auto\;"><span style="font-size: 16px\; color: rgb(76\, 76\, 76)\; font-family: &quot\;Lucida Sans Unicode&quot\;\, &quot\;Lucida Grande&quot\;\, sans-serif\;">Do you feel that the soft skills within the current workforce could use a boost? Join </span><span style="font-size: 16px\; color: rgb(76\, 76\, 76)\; font-family: &quot\;Lucida Sans Unicode&quot\;\, &quot\;Lucida Grande&quot\;\, sans-serif\; font-weight: bold\;">Jeremy Satterfield</span><span style="font-size: 16px\; color: rgb(76\, 76\, 76)\; font-family: &quot\;Lucida Sans Unicode&quot\;\, &quot\;Lucida Grande&quot\;\, sans-serif\;"> of Microsoft Corporation and learn about their partnership with LinkedIn to enhance soft skills in the workplace.&nbsp\;</span></div>\n\n<div style="caret-color: rgb(37\, 78\, 112)\; color: rgb(37\, 78\, 112)\; font-family: &quot\;Century Gothic&quot\;\, Calibri\, Helvetica\, Arial\, sans-serif\; font-size: 14px\; text-size-adjust: auto\;">&nbsp\;</div>\n\n<div style="caret-color: rgb(37\, 78\, 112)\; color: rgb(37\, 78\, 112)\; font-family: &quot\;Century Gothic&quot\;\, Calibri\, Helvetica\, Arial\, sans-serif\; font-size: 14px\; text-size-adjust: auto\;"><span style="font-size: 16px\; color: rgb(76\, 76\, 76)\; font-family: &quot\;Lucida Sans Unicode&quot\;\, &quot\;Lucida Grande&quot\;\, sans-serif\;">These free and easily accessible online programs focus on skills you as employers value most\, from communication fundamentals and being a team player to advancing your critical thinking skills.</span></div>\n\n<div style="caret-color: rgb(37\, 78\, 112)\; color: rgb(37\, 78\, 112)\; font-family: &quot\;Century Gothic&quot\;\, Calibri\, Helvetica\, Arial\, sans-serif\; font-size: 14px\; text-size-adjust: auto\;">&nbsp\;</div>\n\n<div style="caret-color: rgb(37\, 78\, 112)\; color: rgb(37\, 78\, 112)\; font-family: &quot\;Century Gothic&quot\;\, Calibri\, Helvetica\, Arial\, sans-serif\; font-size: 14px\; text-size-adjust: auto\;"><span style="font-size: 16px\; color: rgb(76\, 76\, 76)\; font-family: &quot\;Lucida Sans Unicode&quot\;\, &quot\;Lucida Grande&quot\;\, sans-serif\;">We appreciate any advance questions for research purposes\, and you can provide those during registration.</span></div>\n
LOCATION:Register at: https://us02web.zoom.us/meeting/register/tZ0pd-GgpzspGNYY3Mzp9f7-BapbnQh0QDUr
UID:e.845.17753
SEQUENCE:3
DTSTAMP:20260420T031838Z
URL:https://business.halifaxchamber.net/events/details/tuesday-coffee-chats-workforce-soft-skills-17753
END:VEVENT

END:VCALENDAR
