BEGIN:VCALENDAR
VERSION:2.0
PRODID:-//ChamberMaster//Event Calendar 2.0//EN
METHOD:PUBLISH
X-PUBLISHED-TTL:P3D
REFRESH-INTERVAL:P3D
CALSCALE:GREGORIAN
BEGIN:VEVENT
DTSTART:20190405T203000Z
DTEND:20190405T230000Z
X-MICROSOFT-CDO-ALLDAYEVENT:FALSE
SUMMARY:Turbeville Ruritan Fundraiser Fish Fry
DESCRIPTION:The fundraiser will be held from 4:30 pm to 7 PM . Eat in or take out. The Fundraiser suppports scholarships and community needs.
X-ALT-DESC;FMTTYPE=text/html:The fundraiser will be held from 4:30 pm to 7 PM . Eat in or take out. The Fundraiser suppports scholarships and community needs.
LOCATION:Turbeville Ruritan Club Melon Road South Boston\, VA
UID:e.845.12392
SEQUENCE:3
DTSTAMP:20260421T080120Z
URL:https://business.halifaxchamber.net/events/details/turbeville-ruritan-fundraiser-fish-fry-12392
END:VEVENT

END:VCALENDAR
