BEGIN:VCALENDAR
VERSION:2.0
PRODID:-//ChamberMaster//Event Calendar 2.0//EN
METHOD:PUBLISH
X-PUBLISHED-TTL:P3D
REFRESH-INTERVAL:P3D
CALSCALE:GREGORIAN
BEGIN:VEVENT
DTSTART:20190112T120000Z
DTEND:20190112T160000Z
X-MICROSOFT-CDO-ALLDAYEVENT:FALSE
SUMMARY:Turbeville Volunteer Fire & Rescue Breakfast
DESCRIPTION:Fundraiser to support EMS Operations.
X-ALT-DESC;FMTTYPE=text/html:Fundraiser to support EMS Operations.<br />\n&nbsp\;
LOCATION:Turbeville Vo. Fire & Rescue 1002 Melon Road South Boston \, VA
UID:e.845.11698
SEQUENCE:3
DTSTAMP:20260421T140249Z
URL:https://business.halifaxchamber.net/events/details/turbeville-volunteer-fire-rescue-breakfast-11698
END:VEVENT

END:VCALENDAR
