BEGIN:VCALENDAR
VERSION:2.0
PRODID:-//ChamberMaster//Event Calendar 2.0//EN
METHOD:PUBLISH
X-PUBLISHED-TTL:P3D
REFRESH-INTERVAL:P3D
CALSCALE:GREGORIAN
BEGIN:VEVENT
DTSTART:20191221T010000Z
DTEND:20191221T045500Z
X-MICROSOFT-CDO-ALLDAYEVENT:FALSE
SUMMARY:Ugly Holiday Sweater Party
DESCRIPTION:Get your ticket and get dressed in your ugliest Christmas sweater. Grab yourself a drink\, do some laughing and dance the night away with tunes of DJ Shakespear.\n\n25 and older. Cash bar will be available. Credit/Debit Cards will be accepted.
X-ALT-DESC;FMTTYPE=text/html:Get your ticket and get dressed in your ugliest Christmas sweater. Grab yourself a drink\, do some laughing and dance the night away with tunes of DJ Shakespear.<br />\n25 and older. Cash bar will be available. Credit/Debit Cards will be accepted.
LOCATION:The Prizery 700 Bruce Street South Boston\, VA 24592
UID:e.845.15545
SEQUENCE:3
DTSTAMP:20260420T200134Z
URL:https://business.halifaxchamber.net/events/details/ugly-holiday-sweater-party-15545
END:VEVENT

END:VCALENDAR
