BEGIN:VCALENDAR
VERSION:2.0
PRODID:-//ChamberMaster//Event Calendar 2.0//EN
METHOD:PUBLISH
X-PUBLISHED-TTL:P3D
REFRESH-INTERVAL:P3D
CALSCALE:GREGORIAN
BEGIN:VEVENT
DTSTART:20190508T150000Z
DTEND:20190508T170000Z
X-MICROSOFT-CDO-ALLDAYEVENT:FALSE
SUMMARY:Understanding Cancer
DESCRIPTION:Lunch and Learn to inform community members about the cancer disease.\n\nLunch provided. Registration Required by May 6th. Call 434.476.2714\n\nUnderstanding Cancer provides an introduction to cancer by addressing topics on the disease such as: Explaining how cancer develops in a person's body \; identifying cancery risk factos and prevention\; cancer screenings recommendation\, cancer diagnosis and treatment options\; supporting patients\, cancer survivors\, and caregivers\; and interpreting articles about cancer in the media.
X-ALT-DESC;FMTTYPE=text/html:Lunch and Learn to inform community members about the cancer disease.<br />\nLunch provided. Registration Required by May 6th. Call 434.476.2714<br />\nUnderstanding Cancer provides an introduction to cancer by addressing topics on the disease such as: Explaining how cancer develops in a person&#39\;s body \; identifying cancery risk factos and prevention\; cancer screenings recommendation\, cancer diagnosis and treatment options\; supporting patients\, cancer survivors\, and caregivers\; and interpreting articles about cancer in the media.
LOCATION:Grace Baptist Church 1058 Buckshoal Road Virgilina\, VA 24598
UID:e.845.12474
SEQUENCE:3
DTSTAMP:20260421T075755Z
URL:https://business.halifaxchamber.net/events/details/understanding-cancer-12474
END:VEVENT

END:VCALENDAR
