BEGIN:VCALENDAR
VERSION:2.0
PRODID:-//ChamberMaster//Event Calendar 2.0//EN
METHOD:PUBLISH
X-PUBLISHED-TTL:P3D
REFRESH-INTERVAL:P3D
CALSCALE:GREGORIAN
BEGIN:VEVENT
DTSTART:20200402T161500Z
DTEND:20200402T171500Z
X-MICROSOFT-CDO-ALLDAYEVENT:FALSE
SUMMARY:Understanding & Mitigating Supply Chain Risks Remotely
DESCRIPTION:Uh-oh\, a pandemic is here and you're not ready! Learn ways to mitigate unexpected (and potentially catastrophic) supply chain disruptions now\, while putting in place systems to reduce your risk in the future.
X-ALT-DESC;FMTTYPE=text/html:<span style="color: rgb(68\, 68\, 68)\; font-family: Lato\, sans-serif\; font-size: 18px\;">Uh-oh\, a pandemic is here and you&rsquo\;re not ready! Learn ways to mitigate unexpected (and potentially catastrophic) supply chain disruptions now\, while putting in place systems to reduce your risk in the future.</span>
LOCATION:Zoom Online Register at: https://zoom.us/webinar/register/WN_Y52msOmWQFCRFIHTa6xfcg
UID:e.845.17535
SEQUENCE:3
DTSTAMP:20260420T114144Z
URL:https://business.halifaxchamber.net/events/details/understanding-mitigating-supply-chain-risks-remotely-17535
END:VEVENT

END:VCALENDAR
