BEGIN:VCALENDAR
VERSION:2.0
PRODID:-//ChamberMaster//Event Calendar 2.0//EN
METHOD:PUBLISH
X-PUBLISHED-TTL:P3D
REFRESH-INTERVAL:P3D
CALSCALE:GREGORIAN
BEGIN:VEVENT
DTSTART:20200910T160000Z
DTEND:20200910T170000Z
X-MICROSOFT-CDO-ALLDAYEVENT:FALSE
SUMMARY:Update from the Commonwealth's Chief Broadband Advisor
DESCRIPTION:Virginia's Broadband Chief Broadband Advisor\, Evan Feinman\, serves as Virginia's single point of contact and integration for broadband issues\, efforts\, and initiatives and to increase the availability and affordability of broadband throughout all regions of the Commonwealth.\n\n \n\nJoin us as he provides a broadband update for Southern Virginia.
X-ALT-DESC;FMTTYPE=text/html:<div style="color:rgb(0\, 0\, 0)\;font-family:-webkit-standard\;text-size-adjust:auto\;"><span style="color:#555555\;"><span style="font-family:arial\,sans-serif\;"><span style="font-size:12pt\;">Virginia&rsquo\;s Broadband Chief Broadband Advisor\, Evan Feinman\, serves as Virginia&rsquo\;s single point of contact and integration for broadband issues\, efforts\, and initiatives and to increase the availability and affordability of broadband throughout all regions of the Commonwealth.</span></span></span></div>\n\n<div style="color:rgb(0\, 0\, 0)\;font-family:-webkit-standard\;text-size-adjust:auto\;">&nbsp\;</div>\n\n<div style="color:rgb(0\, 0\, 0)\;font-family:-webkit-standard\;text-size-adjust:auto\;"><span style="color:#555555\;"><span style="font-family:arial\,sans-serif\;"><span style="font-size:12pt\;">Join us as he provides a broadband update for Southern Virginia.</span></span></span></div>\n
LOCATION:Register at: https://www.eventbrite.com/e/update-from-the-commonwealths-chief-broadband-advisor-evan-feinman-registration-116904676033
UID:e.845.17751
SEQUENCE:3
DTSTAMP:20260420T045046Z
URL:https://business.halifaxchamber.net/events/details/update-from-the-commonwealth-s-chief-broadband-advisor-17751
END:VEVENT

END:VCALENDAR
