BEGIN:VCALENDAR
VERSION:2.0
PRODID:-//ChamberMaster//Event Calendar 2.0//EN
METHOD:PUBLISH
X-PUBLISHED-TTL:P3D
REFRESH-INTERVAL:P3D
CALSCALE:GREGORIAN
BEGIN:VEVENT
DTSTART:20181213T223000Z
DTEND:20181214T000000Z
X-MICROSOFT-CDO-ALLDAYEVENT:FALSE
SUMMARY:URW Community Federal Credit Union Business After Hours
DESCRIPTION:Please join for a very special Christmas Business After Hours sponsored by URW Community Federal Credit Union.\n\n\n\nBusiness After Hours (BAH) is the premier networking event in Halifax County and one of the Halifax County Chamber's most popular programs. These gatherings are beneficial to the community and especially to Chamber members who use this time to network\, communicate and share information about their businesses.
X-ALT-DESC;FMTTYPE=text/html:Please join for a very special Christmas Business After Hours sponsored by URW Community Federal Credit Union.<br />\n<br />\n<span style="caret-color: rgb(0\, 0\, 0)\; color: rgb(0\, 0\, 0)\;">Business After Hours (BAH) is the premier networking event in Halifax County and one of the Halifax County Chamber&rsquo\;s most popular programs. These gatherings are beneficial to the community and especially to Chamber members who use this time to network\, communicate and share information about their businesses.</span>
LOCATION:URW Federal Credit Union 4018 Halifax Road South Boston\, VA 24592
UID:e.845.8554
SEQUENCE:3
DTSTAMP:20260421T140620Z
URL:https://business.halifaxchamber.net/events/details/urw-community-federal-credit-union-business-after-hours-8554
END:VEVENT

END:VCALENDAR
