BEGIN:VCALENDAR
VERSION:2.0
PRODID:-//ChamberMaster//Event Calendar 2.0//EN
METHOD:PUBLISH
X-PUBLISHED-TTL:P3D
REFRESH-INTERVAL:P3D
CALSCALE:GREGORIAN
BEGIN:VEVENT
DTSTART:20201117T133000Z
DTEND:20201117T133000Z
X-MICROSOFT-CDO-ALLDAYEVENT:FALSE
SUMMARY:Using Videos in Your Marketing Channels
DESCRIPTION:Using videos to promote your business online is fun\, easy\, and communicates your authenticity as the face behind your business!  Join Ilsa Loeser as she shows you why this works so well and provides tips and tricks to help remove fear and make the process simple and FUN.
X-ALT-DESC;FMTTYPE=text/html:<span style="caret-color: rgb(0\, 0\, 0)\; color: rgb(0\, 0\, 0)\; font-family: Calibri\, sans-serif\; font-size: 14.6667px\; text-size-adjust: auto\;">Using videos to promote your business online is fun\, easy\, and communicates your authenticity as the face behind your business!&nbsp\; Join Ilsa Loeser as she shows you why this works so well and provides tips and tricks to help remove fear and make the process simple and FUN.</span>
LOCATION:Register via Zoom at https://us02web.zoom.us/meeting/register/tZIufuitpj0rHNMnViJJgLzTLx_jlICbDq32
UID:e.845.17799
SEQUENCE:3
DTSTAMP:20260419T234550Z
URL:https://business.halifaxchamber.net/events/details/using-videos-in-your-marketing-channels-17799
END:VEVENT

END:VCALENDAR
