BEGIN:VCALENDAR
VERSION:2.0
PRODID:-//ChamberMaster//Event Calendar 2.0//EN
METHOD:PUBLISH
X-PUBLISHED-TTL:P3D
REFRESH-INTERVAL:P3D
CALSCALE:GREGORIAN
BEGIN:VEVENT
DTSTART:20200402T190000Z
DTEND:20200402T190000Z
X-MICROSOFT-CDO-ALLDAYEVENT:FALSE
SUMMARY:VACCE Live with Governor Northam
DESCRIPTION:Governor Northam will share up-to-date pertinent information for businesses in the Commonwealth. This will be followed by a facilitated Q&A session. Susan Spears\, VACCE Chair\, will be the web moderator.\n\nThis meeting will hold up to 500 participants.\n\nPlease contact Susan directly with questions/comments at susan@fxbgchamber.org
X-ALT-DESC;FMTTYPE=text/html:Governor Northam will share up-to-date pertinent information for businesses in the Commonwealth. This will be followed by a facilitated Q&amp\;A session. Susan Spears\, VACCE Chair\, will be the web moderator.<br />\nThis meeting will hold up to 500 participants.<br />\nPlease contact Susan directly with questions/comments at susan@fxbgchamber.org
LOCATION:Zoom Online RSVP at https://zoom.us/webinar/register/WN_IWPfe2InRAu-t_ulfMB-YQ
UID:e.845.17546
SEQUENCE:3
DTSTAMP:20260420T114414Z
URL:https://business.halifaxchamber.net/events/details/vacce-live-with-governor-northam-17546
END:VEVENT

END:VCALENDAR
