BEGIN:VCALENDAR
VERSION:2.0
PRODID:-//ChamberMaster//Event Calendar 2.0//EN
METHOD:PUBLISH
X-PUBLISHED-TTL:P3D
REFRESH-INTERVAL:P3D
CALSCALE:GREGORIAN
BEGIN:VEVENT
DTSTART:20200214T231500Z
DTEND:20200215T031500Z
X-MICROSOFT-CDO-ALLDAYEVENT:FALSE
SUMMARY:Valentines Day Dinner
DESCRIPTION:Join us for a Valentines Day Dinner at Berry Hill Resort. Includes (1) starter\, (2) entrees\, and (1) dessert to share with a glass of complimentary champagne and chocolate covered strawberries.
X-ALT-DESC;FMTTYPE=text/html:Join us for a Valentines Day Dinner at Berry Hill Resort.&nbsp\;<span style="color: rgb(29\, 33\, 41)\; font-family: system-ui\, -apple-system\, system-ui\, &quot\;.SFNSText-Regular&quot\;\, sans-serif\; font-size: 14px\; white-space: pre-wrap\;">Includes (1) starter\, (2) entrees\, and (1) dessert to share </span><span style="color: rgb(29\, 33\, 41)\; font-family: system-ui\, -apple-system\, system-ui\, &quot\;.SFNSText-Regular&quot\;\, sans-serif\; font-size: 14px\; white-space: pre-wrap\;">with a glass of complimentary champagne and chocolate covered strawberries. </span>
LOCATION:Berry Hill Resort and Conference Center
UID:e.845.17451
SEQUENCE:3
DTSTAMP:20260420T150444Z
URL:https://business.halifaxchamber.net/events/details/valentines-day-dinner-17451
END:VEVENT

END:VCALENDAR
