BEGIN:VCALENDAR
VERSION:2.0
PRODID:-//ChamberMaster//Event Calendar 2.0//EN
METHOD:PUBLISH
X-PUBLISHED-TTL:P3D
REFRESH-INTERVAL:P3D
CALSCALE:GREGORIAN
BEGIN:VEVENT
DTSTART:20210914T190000Z
DTEND:20210914T220000Z
X-MICROSOFT-CDO-ALLDAYEVENT:FALSE
SUMMARY:VDH Covid-19 Vaccination Clinic
DESCRIPTION:The VA Department of Health will hold a voluntary Covid-19 Vaccination Clinic at the Southern Virginia Higher Ed Center. Pre-register here.
X-ALT-DESC;FMTTYPE=text/html:The VA Department of Health will hold a voluntary Covid-19 Vaccination Clinic at the Southern Virginia Higher Ed Center. <a href="http://www.svhec.org" id="Pre-register here.">Pre-register here</a>.
LOCATION:SVHEC 820 Bruce Street South Boston\, VA 24592
UID:e.845.18102
SEQUENCE:3
DTSTAMP:20260421T084528Z
URL:https://business.halifaxchamber.net/events/details/vdh-covid-19-vaccination-clinic-18102
END:VEVENT

END:VCALENDAR
