BEGIN:VCALENDAR
VERSION:2.0
PRODID:-//ChamberMaster//Event Calendar 2.0//EN
METHOD:PUBLISH
X-PUBLISHED-TTL:P3D
REFRESH-INTERVAL:P3D
CALSCALE:GREGORIAN
BEGIN:VEVENT
DTSTART:20200409T180000Z
DTEND:20200409T190000Z
X-MICROSOFT-CDO-ALLDAYEVENT:FALSE
SUMMARY:VEDP Export Financing During Uncertain Times
DESCRIPTION:Join VEDP's International Trade team to learn about export financing while navigating a rapidly and ever-changing international sales environment!\n\nWe will discuss how companies can explore financing options to best protect themselves in this uncertain time.\n\nThe Small Business Administration (SBA) works with resource partners and their clients to identify and finance export opportunities. Learn how the SBA reduces risk and enables easier access to capital as you prepare to pursue the global marketplace.\n\nEXIM bank will discuss specific relief measures designed to assist exporters\, particularly SME's\, that are encountering business interruptions presented by COVID-19. Learn how to leverage bridge financing programs and pre-export payment support for manufacturers so export transactions can continue throughout the COVID-19 crisis and beyond. \n\nKEY TAKEAWAYS\n\n	Working Capital\n	SBA Loans\n\n\n \n\nWe have partnered with the SBA and ExIm Bank to learn more!\nSpeakers:\n\n\n	Bill Houck\, Export Finance Manager\, U.S. Small Business Administration\n	Elizabeth Thomas\, Business Development Specialist\, Export-Import Bank of the United States
X-ALT-DESC;FMTTYPE=text/html:<span style="font-weight:700\;padding-top:0px\;">Join VEDP&#39\;s International Trade team to learn about export financing while navigating a rapidly and ever-changing international sales environment!</span><br />\nWe will discuss how companies can explore financing options to best protect themselves in this uncertain time.<br />\nThe Small Business Administration (SBA) works with resource partners and their clients to identify and finance export opportunities. Learn how the SBA reduces risk and enables easier access to capital as you prepare to pursue the global marketplace.<br />\n<span style="padding-top:0px\;">EXIM bank will discuss specific relief measures designed to assist exporters\, particularly SME&rsquo\;s\, that are encountering business interruptions presented by COVID-19. Learn how to leverage bridge financing programs and pre-export payment support for manufacturers so export transactions can continue throughout the COVID-19 crisis and beyond.&nbsp\;</span><br />\n<span style="padding-top:0px\;">KEY TAKEAWAYS</span>\n<ul>\n	<li style="padding:0px\;"><span style="padding-top:0px\;">Working Capital</span></li>\n	<li style="padding:5px 0px 0px\;"><span style="padding-top:0px\;">SBA Loans</span></li>\n</ul>\n\n<div style="padding:0px\;color:rgb(57\, 54\, 79)\;font-family:Neue Plak\, -apple-system\, BlinkMacSystemFont\, Roboto\, Helvetica Neue\, Helvetica\, Tahoma\, Arial\, sans-serif\;font-size:14.933333396911621px\;letter-spacing:0.5px\;">&nbsp\;</div>\n\n<div style="padding:0px\;color:rgb(57\, 54\, 79)\;font-family:Neue Plak\, -apple-system\, BlinkMacSystemFont\, Roboto\, Helvetica Neue\, Helvetica\, Tahoma\, Arial\, sans-serif\;font-size:14.933333396911621px\;letter-spacing:0.5px\;"><span style="padding-top:0px\;">We h</span>ave partnered with the SBA and ExIm Bank to learn more!</div>\n<span style="font-weight:700\;padding-top:0px\;">Speakers:</span>\n\n<ul>\n	<li role="listitem" style="padding:0px\;"><span style="padding-top:0px\;">Bill Houck</span>\, Export Finance Manager\, U.S. Small Business Administration</li>\n	<li role="listitem" style="padding:5px 0px 0px\;"><span style="padding-top:0px\;">E</span>lizabeth&nbsp\;Thomas\, Business Development Specialist\, Export-Import Bank of the United States</li>\n</ul>\n
LOCATION:Register at https://www.eventbrite.com/e/vedp-webinar-export-financing-during-uncertain-times-registration-100809409658
UID:e.845.17551
SEQUENCE:3
DTSTAMP:20260420T114322Z
URL:https://business.halifaxchamber.net/events/details/vedp-export-financing-during-uncertain-times-17551
END:VEVENT

END:VCALENDAR
