BEGIN:VCALENDAR
VERSION:2.0
PRODID:-//ChamberMaster//Event Calendar 2.0//EN
METHOD:PUBLISH
X-PUBLISHED-TTL:P3D
REFRESH-INTERVAL:P3D
CALSCALE:GREGORIAN
BEGIN:VEVENT
DTSTART:20200416T180000Z
DTEND:20200416T190000Z
X-MICROSOFT-CDO-ALLDAYEVENT:FALSE
SUMMARY:VEDP Global Trade Disruptions
DESCRIPTION:Join VEDP's International Trade team to learn about global trade disruptions: what businesses should know about tariffs and trade actions!\n\nSweeping tariffs and trade actions continue to impact the operations of Virginia manufacturers\, importers and exporters. Learn how to navigate your company through the current environment of uncertainty. Topics of discussion include ways to mitigate tariff liability\, how tariff exclusion processes work\, and resources to help companies facilitate international trade.\n\nWe have partnered with K&L Gates and the Journal of Commerce to learn more.\n\nSpeakers:\n\n	Stacy Ettinger\, Partner\, K&L Gates\n	Eric Johnson\, Senior Editor\, Technology\, Journal of Commerce
X-ALT-DESC;FMTTYPE=text/html:<span style="font-weight:700\;padding-top:0px\;">Join VEDP&#39\;s International Trade team to learn about global trade disruptions: what businesses should know about tariffs and trade actions!</span><br />\nSweeping tariffs and trade actions continue to impact the operations of Virginia manufacturers\, importers and exporters. Learn how to navigate your company through the current environment of uncertainty. Topics of discussion include ways to mitigate tariff liability\, how tariff exclusion processes work\, and resources to help companies facilitate international trade.<br />\n<span style="padding-top:0px\;">We have partnered with K&amp\;L Gates and the Journal of Commerce to learn more.</span><br />\n<span style="font-weight:700\;padding-top:0px\;">Speakers:</span>\n<ul>\n	<li role="listitem" style="padding:0px\;"><span style="padding-top:0px\;"><span style="padding-top:0px\;"><span style="padding-top:0px\;">Stacy Ettinger</span></span><span style="padding-top:0px\;">\, Partner\,</span></span><span style="padding-top:0px\;">&nbsp\;K&amp\;L Gates</span></li>\n	<li role="listitem" style="padding:5px 0px 0px\;"><span style="padding-top:0px\;"><span style="padding-top:0px\;"><span style="padding-top:0px\;">Eric Johnson</span></span><span style="padding-top:0px\;">\, Senior Editor\, Technology\,</span></span><span style="padding-top:0px\;">&nbsp\;Journal of Commerce</span></li>\n</ul>\n
LOCATION:Register at https://www.eventbrite.com/e/vedp-webinar-global-trade-disruptions-registration-101542757120
UID:e.845.17552
SEQUENCE:3
DTSTAMP:20260420T114618Z
URL:https://business.halifaxchamber.net/events/details/vedp-global-trade-disruptions-17552
END:VEVENT

END:VCALENDAR
