BEGIN:VCALENDAR
VERSION:2.0
PRODID:-//ChamberMaster//Event Calendar 2.0//EN
METHOD:PUBLISH
X-PUBLISHED-TTL:P3D
REFRESH-INTERVAL:P3D
CALSCALE:GREGORIAN
BEGIN:VEVENT
DTSTART:20181110T160000Z
DTEND:20181110T180000Z
X-MICROSOFT-CDO-ALLDAYEVENT:FALSE
SUMMARY:Veterans Day Celebration South Boston/Halifax County
DESCRIPTION:Veterans Day Celebration\n\nParade at 11 AM\n\nFood\, Veteran Speakers\, Kids Fun\, Music & More
X-ALT-DESC;FMTTYPE=text/html:Veterans Day Celebration<br />\nParade at 11 AM<br />\nFood\, Veteran Speakers\, Kids Fun\, Music &amp\; More&nbsp\;<br />\n<br />\n&nbsp\;
LOCATION:Downtown South Boston Main Street
UID:e.845.8505
SEQUENCE:3
DTSTAMP:20260421T153044Z
URL:https://business.halifaxchamber.net/events/details/veterans-day-celebration-south-boston-halifax-county-8505
END:VEVENT

END:VCALENDAR
