BEGIN:VCALENDAR
VERSION:2.0
PRODID:-//ChamberMaster//Event Calendar 2.0//EN
METHOD:PUBLISH
X-PUBLISHED-TTL:P3D
REFRESH-INTERVAL:P3D
CALSCALE:GREGORIAN
BEGIN:VEVENT
DTSTART:20161112T160000Z
DTEND:20161112T180000Z
X-MICROSOFT-CDO-ALLDAYEVENT:FALSE
SUMMARY:Veterans Day Parade
DESCRIPTION:Veterans Day Parade to Honor Our Veterans\n\nThe parade starts at the intersection of Carrington Street and Wilborn Avenue. If you would like to register in the parade\, please call Mr. Cary Ford at 434-470-7977.\n\nThe parade will continue down Main Street and end at Constitution Square. There will be a ceremony in Constitution Square after the parade with an Invocation by Rev. Gregory Thomas and Tommy Hines\, American Legion Past 5th District Commander\, as speaker. Coffee will be provided by Brooks-Lyon Funeral Home.
X-ALT-DESC;FMTTYPE=text/html:Veterans Day Parade to Honor Our Veterans<br />\nThe parade starts at the intersection of Carrington Street and Wilborn Avenue. If you would like to register in the parade\, please call Mr. Cary Ford at 434-470-7977.<br />\nThe parade will continue down Main Street and end at Constitution Square. There&nbsp\;will be a ceremony in Constitution Square after the parade with an Invocation by Rev. Gregory Thomas and Tommy Hines\, American Legion Past 5th District Commander\, as speaker. Coffee will be provided by Brooks-Lyon Funeral Home.
LOCATION:Downtown South Boston
UID:e.845.5744
SEQUENCE:3
DTSTAMP:20260424T193212Z
URL:https://business.halifaxchamber.net/events/details/veterans-day-parade-5744
END:VEVENT

END:VCALENDAR
