BEGIN:VCALENDAR
VERSION:2.0
PRODID:-//ChamberMaster//Event Calendar 2.0//EN
METHOD:PUBLISH
X-PUBLISHED-TTL:P3D
REFRESH-INTERVAL:P3D
CALSCALE:GREGORIAN
BEGIN:VEVENT
DTSTART:20191109T160000Z
DTEND:20191109T160000Z
X-MICROSOFT-CDO-ALLDAYEVENT:FALSE
SUMMARY:Veterans Day Parade & Celebration
DESCRIPTION:Line the streets Downtown with people and patriotic colors to show our past and present veterans and their families how much we appreciate all they have done and are currently doing! After the parade there will be a celebration in Constitution Square honoring our veterans. There will be a veteran speaker\, food\, and entertainment provided by Matt Boswell!
X-ALT-DESC;FMTTYPE=text/html:L<span style="color: rgb(29\, 33\, 41)\; font-family: system-ui\, -apple-system\, system-ui\, &quot\;.SFNSText-Regular&quot\;\, sans-serif\; font-size: 14px\; white-space: pre-wrap\;">ine the streets Downtown with people and patriotic colors to show our past and present veterans and their families how much we appreciate all they have done and are currently doing! After the parade there will be a celebration in Constitution Square honoring our veterans. There will be a veteran speaker\, food\, and entertainment provided by Matt Boswell!</span>
LOCATION:Downtown South Boston Main Street South Boston\, VA 24592
UID:e.845.14474
SEQUENCE:3
DTSTAMP:20260420T215122Z
URL:https://business.halifaxchamber.net/events/details/veterans-day-parade-celebration-14474
END:VEVENT

END:VCALENDAR
