BEGIN:VCALENDAR
VERSION:2.0
PRODID:-//ChamberMaster//Event Calendar 2.0//EN
METHOD:PUBLISH
X-PUBLISHED-TTL:P3D
REFRESH-INTERVAL:P3D
CALSCALE:GREGORIAN
BEGIN:VEVENT
DTSTART:20190812T220000Z
DTEND:20190813T000000Z
X-MICROSOFT-CDO-ALLDAYEVENT:FALSE
SUMMARY:Vineyard + Farm Dinner Series
DESCRIPTION:Join Berry Hill Resort for a dinner with genuine Halifax County farm-fresh products and wine.\n\nFeaturing - Beef from Waller Brothers Farm\n\nWine from Hunting Creek Vineyards and Bright Meadows Farm and Vineyards\n\nOnly 30 seats available. \n\nPlease call 434-517-7000 to reserve
X-ALT-DESC;FMTTYPE=text/html:Join Berry Hill Resort for a dinner with genuine Halifax County farm-fresh products and wine.<br />\nFeaturing -&nbsp\;Beef from Waller Brothers Farm<br />\nWine from Hunting Creek Vineyards and Bright Meadows Farm and Vineyards<br />\nOnly 30 seats available.&nbsp\;<br />\nPlease call 434-517-7000 to reserve
LOCATION:Jefferson Grove at Berry Hill Resort 3105 River Road South Boston\, VA 24592
UID:e.845.13158
SEQUENCE:3
DTSTAMP:20260421T012034Z
URL:https://business.halifaxchamber.net/events/details/vineyard-farm-dinner-series-13158
END:VEVENT

END:VCALENDAR
