BEGIN:VCALENDAR
VERSION:2.0
PRODID:-//ChamberMaster//Event Calendar 2.0//EN
METHOD:PUBLISH
X-PUBLISHED-TTL:P3D
REFRESH-INTERVAL:P3D
CALSCALE:GREGORIAN
BEGIN:VEVENT
DTSTART:20190712T223000Z
DTEND:20190713T023000Z
X-MICROSOFT-CDO-ALLDAYEVENT:FALSE
SUMMARY:Vintage Silk at The Barn
DESCRIPTION:Join Hunting Creek Vineyards for a fun filled evening with music by Vintage Silk. There will be food on site for purchase and plenty of wine!
X-ALT-DESC;FMTTYPE=text/html:Join Hunting Creek Vineyards for a fun filled evening with music by Vintage Silk. There will be food on site for purchase and plenty of wine!
LOCATION:The Barn at Hunting Creek Vineyards 2000 Addie Williams Trail Clover\, VA 24534
UID:e.845.13199
SEQUENCE:3
DTSTAMP:20260421T031057Z
URL:https://business.halifaxchamber.net/events/details/vintage-silk-at-the-barn-13199
END:VEVENT

END:VCALENDAR
