BEGIN:VCALENDAR
VERSION:2.0
PRODID:-//ChamberMaster//Event Calendar 2.0//EN
METHOD:PUBLISH
X-PUBLISHED-TTL:P3D
REFRESH-INTERVAL:P3D
CALSCALE:GREGORIAN
BEGIN:VEVENT
DTSTART:20180421T150000Z
DTEND:20180421T210000Z
X-MICROSOFT-CDO-ALLDAYEVENT:FALSE
SUMMARY:Vintage Silk Music Day
DESCRIPTION:On April 21st Hunting Creek Vineyards will be featuring music by Vintage Silk which will be accompanied by a complimentary tasting as well as food for purchase by Smokin' Butts Slow & Low. Our new merchandise will be available for purchase as well.
X-ALT-DESC;FMTTYPE=text/html:<span style="caret-color: rgba(0\, 0\, 0\, 0.6)\; color: rgba(0\, 0\, 0\, 0.6)\; font-family: freight-big-pro\; font-size: 19px\; letter-spacing: 0.3799999952316284px\; background-color: rgb(250\, 250\, 250)\;">On April 21st Hunting Creek Vineyards will be featuring music by&nbsp\;</span><a href="https://www.facebook.com/VintageSilkDuet/" style="background-color: transparent\; color: rgba(64\, 64\, 64\, 0.85098)\; text-decoration: none\; padding-bottom: 0.05em\; border-bottom-width: 1px\; border-bottom-style: solid\; border-bottom-color: rgba(64\, 64\, 64\, 0.254902)\; transition: border-color 0.15s ease-out\, color 0.15s ease-out\; word-wrap: break-word\; font-family: freight-big-pro\; font-size: 19px\; letter-spacing: 0.3799999952316284px\;">Vintage Silk</a><span style="caret-color: rgba(0\, 0\, 0\, 0.6)\; color: rgba(0\, 0\, 0\, 0.6)\; font-family: freight-big-pro\; font-size: 19px\; letter-spacing: 0.3799999952316284px\; background-color: rgb(250\, 250\, 250)\;">&nbsp\;which will be accompanied by a complimentary tasting as well as food for purchase by Smokin&#39\; Butts Slow &amp\; Low. Our new merchandise will be available for purchase as well.</span>
LOCATION:Hunting Creek Vineyards 2000 Addie Williams Trail Clover\, VA 24534
UID:e.845.8280
SEQUENCE:3
DTSTAMP:20260422T034415Z
URL:https://business.halifaxchamber.net/events/details/vintage-silk-music-day-8280
END:VEVENT

END:VCALENDAR
