BEGIN:VCALENDAR
VERSION:2.0
PRODID:-//ChamberMaster//Event Calendar 2.0//EN
METHOD:PUBLISH
X-PUBLISHED-TTL:P3D
REFRESH-INTERVAL:P3D
CALSCALE:GREGORIAN
BEGIN:VEVENT
DTSTART:20190803T190000Z
DTEND:20190804T000000Z
X-MICROSOFT-CDO-ALLDAYEVENT:FALSE
SUMMARY:VIR Craft Beer Fest
DESCRIPTION:Tickets include unlimited craft beer tastings from award winning Virginia Craft breweries and beers from across the Commonwealth\, full access to the VIRginia International Raceway facilities\, and spectator access to the Sports Car Club of America time trials. \n\nLodging is available in South Boston and Danville\, Camping and RV sites are available at VIR.
X-ALT-DESC;FMTTYPE=text/html:Tickets include unlimited craft beer tastings from award winning Virginia Craft breweries and beers from across the Commonwealth\, full access to the VIRginia International Raceway facilities\, and spectator access to the Sports Car Club of America time trials.&nbsp\;<br />\nLodging is available in South Boston and Danville\, Camping and RV sites are available at VIR.
LOCATION:VIRginia International Raceway 1245 Pine Tree Road Alton\, VA 24520
UID:e.845.13245
SEQUENCE:3
DTSTAMP:20260421T013004Z
URL:https://business.halifaxchamber.net/events/details/vir-craft-beer-fest-13245
END:VEVENT

END:VCALENDAR
