BEGIN:VCALENDAR
VERSION:2.0
PRODID:-//ChamberMaster//Event Calendar 2.0//EN
METHOD:PUBLISH
X-PUBLISHED-TTL:P3D
REFRESH-INTERVAL:P3D
CALSCALE:GREGORIAN
BEGIN:VEVENT
DTSTART:20210605T120000Z
DTEND:20210605T220000Z
X-MICROSOFT-CDO-ALLDAYEVENT:FALSE
SUMMARY:VIR GT World Challenge
DESCRIPTION:Fanatec GT World Challenge America powered by AWS is the premier North American GT series\, contributing to the global GT World Challenge championship. Racing across the best circuits from Sonoma to Indianapolis\, the 2021 season will focus on upper echelon GT3 racing as we welcome the return of the Pro-pairing class. The three-day race weekends will feature 90-min double-header races for complete and exciting race weekends.\n\nWe are excited to add them to our schedule again in 2021!\n\nMore Info: https://www.gt-world-challenge-america.com/\n\nRace Team Meal Ordering: https://bit.ly/2PR7oBo \n\nTickets at: http://virnow.com/events/gt-world-challenge-america
X-ALT-DESC;FMTTYPE=text/html:<div class="kvgmc6g5 cxmmr5t8 oygrvhab hcukyx3x c1et5uql" style="overflow-wrap: break-word\; margin: 0px\; font-family: system-ui\, -apple-system\, system-ui\, &quot\;.SFNSText-Regular&quot\;\, sans-serif\; color: rgb(5\, 5\, 5)\; font-size: 15px\;">Fanatec GT World Challenge America powered by AWS is the premier North American GT series\, contributing to the global GT World Challenge championship. Racing across the best circuits from Sonoma to Indianapolis\, the 2021 season will focus on upper echelon GT3 racing as we welcome the return of the Pro-pairing class. The three-day race weekends will feature 90-min double-header races for complete and exciting race weekends.</div>\n\n<div class="o9v6fnle cxmmr5t8 oygrvhab hcukyx3x c1et5uql" style="overflow-wrap: break-word\; margin: 0.5em 0px 0px\; font-family: system-ui\, -apple-system\, system-ui\, &quot\;.SFNSText-Regular&quot\;\, sans-serif\; color: rgb(5\, 5\, 5)\; font-size: 15px\;">We are excited to add them to our schedule again in 2021!</div>\n\n<div class="o9v6fnle cxmmr5t8 oygrvhab hcukyx3x c1et5uql" style="overflow-wrap: break-word\; margin: 0.5em 0px 0px\; font-family: system-ui\, -apple-system\, system-ui\, &quot\;.SFNSText-Regular&quot\;\, sans-serif\; color: rgb(5\, 5\, 5)\; font-size: 15px\;">More Info:&nbsp\;<a class="oajrlxb2 g5ia77u1 qu0x051f esr5mh6w e9989ue4 r7d6kgcz rq0escxv nhd2j8a9 nc684nl6 p7hjln8o kvgmc6g5 cxmmr5t8 oygrvhab hcukyx3x jb3vyjys rz4wbd8a qt6c0cv9 a8nywdso i1ao9s8h esuyzwwr f1sip0of lzcic4wl py34i1dx gpro0wi8" href="https://www.gt-world-challenge-america.com/?fbclid=IwAR2TyE1dZGHwmFSNgLscL7gMj2MqLjvIbzvpyMYlGtsqoZ-gBB-VKMAuL9Y" rel="nofollow noopener" role="link" style="color: var(--blue-link)\; cursor: pointer\; text-decoration-line: none\; outline: none\; list-style: none\; border-width: 0px\; border-style: initial\; border-color: initial\; padding: 0px\; margin: 0px\; touch-action: manipulation\; background-color: transparent\; text-align: inherit\; display: inline\; -webkit-tap-highlight-color: transparent\; box-sizing: border-box\; font-family: inherit\;" tabindex="0" target="_blank">https://www.gt-world-challenge-america.com/</a></div>\n\n<div class="o9v6fnle cxmmr5t8 oygrvhab hcukyx3x c1et5uql" style="overflow-wrap: break-word\; margin: 0.5em 0px 0px\; font-family: system-ui\, -apple-system\, system-ui\, &quot\;.SFNSText-Regular&quot\;\, sans-serif\; color: rgb(5\, 5\, 5)\; font-size: 15px\;">Race Team Meal Ordering:&nbsp\;<a class="oajrlxb2 g5ia77u1 qu0x051f esr5mh6w e9989ue4 r7d6kgcz rq0escxv nhd2j8a9 nc684nl6 p7hjln8o kvgmc6g5 cxmmr5t8 oygrvhab hcukyx3x jb3vyjys rz4wbd8a qt6c0cv9 a8nywdso i1ao9s8h esuyzwwr f1sip0of lzcic4wl py34i1dx gpro0wi8" href="https://l.facebook.com/l.php?u=https%3A%2F%2Fbit.ly%2F2PR7oBo%3Ffbclid%3DIwAR0NmCjkK45QGscCF4oWLVP6-iB01YDZ55-iCLuacb5gif8NhC01jAtEE6E&amp\;h=AT3fWnIOmxNYebfM5gJYI504W2wRuo7fbktKdhJDFTu7JxqTDAIH7TUYkVpQBTQ-XMmSfjk4lyVmlzW-OP_i7GHLJR3reYJAhe1qXrljbjt1wJuUZx7FW49PSOicyQyyG7SA5Ds&amp\;__tn__=q&amp\;c[0]=AT03Qx9aZMRMwUua9T7ngj5ikEfalQBn7ZjpuFzIK-y-9pBl76Q4NS3yWTuR3tnGozljJ8vGe6XXUMpXP6xTHhrJxyhFNor5IZy20gua92eu7HHvMJuwU62nu1Qkgt62B_J_ctJmzTOpv2iNfoNXF6Ji_f2J0f97_KNYeEh_4OthfUo" rel="nofollow noopener" role="link" style="color: var(--blue-link)\; cursor: pointer\; text-decoration-line: none\; outline: none\; list-style: none\; border-width: 0px\; border-style: initial\; border-color: initial\; padding: 0px\; margin: 0px\; touch-action: manipulation\; background-color: transparent\; text-align: inherit\; display: inline\; -webkit-tap-highlight-color: transparent\; box-sizing: border-box\; font-family: inherit\;" tabindex="0" target="_blank">https://bit.ly/2PR7oBo</a>&nbsp\;<br />\nTickets at:&nbsp\;<a href="http://virnow.com/events/gt-world-challenge-america">http://virnow.com/events/gt-world-challenge-america</a></div>\n
LOCATION:VIRginia International Raceway 1245 Pine Tree Road Alton\, VA 24520
UID:e.845.17950
SEQUENCE:3
DTSTAMP:20260419T123909Z
URL:https://business.halifaxchamber.net/events/details/vir-gt-world-challenge-06-05-2021-17950
END:VEVENT

END:VCALENDAR
