BEGIN:VCALENDAR
VERSION:2.0
PRODID:-//ChamberMaster//Event Calendar 2.0//EN
METHOD:PUBLISH
X-PUBLISHED-TTL:P3D
REFRESH-INTERVAL:P3D
CALSCALE:GREGORIAN
BEGIN:VEVENT
DTSTART;VALUE=DATE:20190629
DTEND;VALUE=DATE:20190630
TRANSP:TRANSPARENT
X-MICROSOFT-CDO-ALLDAYEVENT:TRUE
SUMMARY:VIR Jane Bond Experience
DESCRIPTION:Join VIR for a female specific course on tactical mobility including basic and advanced vehicle operations\, basic and advanced marksmanship and operational training\, situational awareness\, individual readiness\, family preparedness\, travel planning\, defensive driving\, and driver improvement.\n\n\n\nRegister today!\n\n434-822-7700 x105
X-ALT-DESC;FMTTYPE=text/html:Join VIR for a female specific course on tactical mobility including basic and advanced vehicle operations\, basic and advanced marksmanship and operational training\, situational awareness\, individual readiness\, family preparedness\, travel planning\, defensive driving\, and driver improvement.<br />\n<br />\nRegister today!<br />\n434-822-7700 x105
LOCATION:VIRginia International Raceway 1245 Pine Tree Road Alton\, VA 24520
UID:e.845.13159
SEQUENCE:3
DTSTAMP:20260421T043849Z
URL:https://business.halifaxchamber.net/events/details/vir-jane-bond-experience-13159
END:VEVENT

END:VCALENDAR
