BEGIN:VCALENDAR
VERSION:2.0
PRODID:-//ChamberMaster//Event Calendar 2.0//EN
METHOD:PUBLISH
X-PUBLISHED-TTL:P3D
REFRESH-INTERVAL:P3D
CALSCALE:GREGORIAN
BEGIN:VEVENT
DTSTART:20210522T120000Z
DTEND:20210522T220000Z
X-MICROSOFT-CDO-ALLDAYEVENT:FALSE
SUMMARY:VIR MotoAmerica
DESCRIPTION:VIR delivers outstanding motorcycle racing at one of the most beautiful tracks in the USA. Immerse yourself with Friday qualifying and two full weekend days of racing in close proximity to the motorcycles and racers themselves with our open race paddock. Bring the family and enjoy food\, stunt shows\, and racing! Take advantage of multiple ticket options   The Full Throttle package delivers the pit experience plus a walk of the Superbike starting grid. Choose the Saturday Fan Lap option and ride your own motorcycle on the track itself! Join fellow fans and over 120 riders competing in five classes and experience some of the best competition found in any sport!\n\nMore Info: https://motoamerica.com/\n\nRace Team Meal Ordering: https://bit.ly/2PR7oBo\n\nTickets at: http://tickets.motoamerica.com/event/motoamerica-superbikes-at-virginia--may-21-23-202175
X-ALT-DESC;FMTTYPE=text/html:<div class="kvgmc6g5 cxmmr5t8 oygrvhab hcukyx3x c1et5uql" style="overflow-wrap: break-word\; margin: 0px\; font-family: system-ui\, -apple-system\, system-ui\, &quot\;.SFNSText-Regular&quot\;\, sans-serif\; color: rgb(5\, 5\, 5)\; font-size: 15px\;">VIR delivers outstanding motorcycle racing at one of the most beautiful tracks in the USA. Immerse yourself with Friday qualifying and two full weekend days of racing in close proximity to the motorcycles and racers themselves with our open race paddock. Bring the family and enjoy food\, stunt shows\, and racing! Take advantage of multiple ticket options &ndash\; The Full Throttle package delivers the pit experience plus a walk of the Superbike starting grid. Choose the Saturday Fan Lap option and ride your own motorcycle on the track itself! Join fellow fans and over 120 riders competing in five classes and experience some of the best competition found in any sport!</div>\n\n<div class="o9v6fnle cxmmr5t8 oygrvhab hcukyx3x c1et5uql" style="overflow-wrap: break-word\; margin: 0.5em 0px 0px\; font-family: system-ui\, -apple-system\, system-ui\, &quot\;.SFNSText-Regular&quot\;\, sans-serif\; color: rgb(5\, 5\, 5)\; font-size: 15px\;">More Info:&nbsp\;<a class="oajrlxb2 g5ia77u1 qu0x051f esr5mh6w e9989ue4 r7d6kgcz rq0escxv nhd2j8a9 nc684nl6 p7hjln8o kvgmc6g5 cxmmr5t8 oygrvhab hcukyx3x jb3vyjys rz4wbd8a qt6c0cv9 a8nywdso i1ao9s8h esuyzwwr f1sip0of lzcic4wl py34i1dx gpro0wi8" href="https://motoamerica.com/" rel="nofollow noopener" role="link" style="color: var(--blue-link)\; cursor: pointer\; text-decoration-line: none\; outline: none\; list-style: none\; border-width: 0px\; border-style: initial\; border-color: initial\; padding: 0px\; margin: 0px\; touch-action: manipulation\; background-color: transparent\; text-align: inherit\; display: inline\; -webkit-tap-highlight-color: transparent\; box-sizing: border-box\; font-family: inherit\;" tabindex="0" target="_blank">https://motoamerica.com/</a></div>\n\n<div class="o9v6fnle cxmmr5t8 oygrvhab hcukyx3x c1et5uql" style="overflow-wrap: break-word\; margin: 0.5em 0px 0px\; font-family: system-ui\, -apple-system\, system-ui\, &quot\;.SFNSText-Regular&quot\;\, sans-serif\; color: rgb(5\, 5\, 5)\; font-size: 15px\;">Race Team Meal Ordering:&nbsp\;<a class="oajrlxb2 g5ia77u1 qu0x051f esr5mh6w e9989ue4 r7d6kgcz rq0escxv nhd2j8a9 nc684nl6 p7hjln8o kvgmc6g5 cxmmr5t8 oygrvhab hcukyx3x jb3vyjys rz4wbd8a qt6c0cv9 a8nywdso i1ao9s8h esuyzwwr f1sip0of lzcic4wl py34i1dx gpro0wi8" href="https://l.facebook.com/l.php?u=https%3A%2F%2Fbit.ly%2F2PR7oBo%3Ffbclid%3DIwAR233RuG-FrnBUSNXeTuDSRvU6rJvRlRUSZHvnFLzv-hMUU78TCVAlGuY64&amp\;h=AT3GPWGwXfUNPyP9q97wegxvl3A27mKWHUAqJgXLPCOfplqIu2mbYZ8NbqDoZzo9R1Z14pMgCDs1rxuXD79tEjTeKDFg0iD7wyhNtv7YtgQE35-mHLtAhqpqV2h1Z2Hd2ZA51DM&amp\;__tn__=q&amp\;c[0]=AT3TinjC79SDVo_g3f_SUDnBtujr2Q4_jTv6iRH-QSAimDLTxvp0Tms5MlsD6IN7X2z-Bvt3DjLm4PRMDcC8CL54Fwm1uvcGnyeB1A2Ed6YUz0UjIa2K03tsDCIK_w4UMr6B8pNxk9EuWAE2FYllZF730y9lyddBGa0Ej4Y6p4yHYSc" rel="nofollow noopener" role="link" style="color: var(--blue-link)\; cursor: pointer\; text-decoration-line: none\; outline: none\; list-style: none\; border-width: 0px\; border-style: initial\; border-color: initial\; padding: 0px\; margin: 0px\; touch-action: manipulation\; background-color: transparent\; text-align: inherit\; display: inline\; -webkit-tap-highlight-color: transparent\; box-sizing: border-box\; font-family: inherit\;" tabindex="0" target="_blank">https://bit.ly/2PR7oBo</a><br />\nTickets at:&nbsp\;<a href="http://tickets.motoamerica.com/event/motoamerica-superbikes-at-virginia--may-21-23-202175">http://tickets.motoamerica.com/event/motoamerica-superbikes-at-virginia--may-21-23-202175</a></div>\n
LOCATION:VIRginia International Raceway 1245 Pine Tree Road Alton\, VA 24520
UID:e.845.17942
SEQUENCE:3
DTSTAMP:20260419T141813Z
URL:https://business.halifaxchamber.net/events/details/vir-motoamerica-05-22-2021-17942
END:VEVENT

END:VCALENDAR
