BEGIN:VCALENDAR
VERSION:2.0
PRODID:-//ChamberMaster//Event Calendar 2.0//EN
METHOD:PUBLISH
X-PUBLISHED-TTL:P3D
REFRESH-INTERVAL:P3D
CALSCALE:GREGORIAN
BEGIN:VEVENT
DTSTART:20190426T120000Z
DTEND:20190426T170000Z
X-MICROSOFT-CDO-ALLDAYEVENT:FALSE
SUMMARY:VIR Raceway Blancpain GT World Challenge
DESCRIPTION:Blancpain GT World Challenge America\, is a North American auto racing series that is managed by WC Vision and sanctioned by the United States Auto Club (USAC). The World Challenge series was born in 1990 and celebrated its 25th anniversary season in 2014. The series consists of seven driver classifications and six classes of vehicles: Grand Touring (GT)\, GT Cup (new for 2015   for Porsche 991 Cup cars)\, GTS\, Touring Car (TC)\, "Touring Car B-spec" (TCB) since 2012\, and "Touring Car A" (TCA)\, new in 2014. In 2014\, a new GTA driver classification was established for professional drivers that do not make their living primarily from racing.\n\nFor more information on Blancpain GT World Challenge America\, click here.\n\nAll current military will be admitted free and veterans will receive a 50% discount to ALL VIR events. Children 16 and under are always free with a paying adult and there is no cost for parking.
X-ALT-DESC;FMTTYPE=text/html:<div style="margin-right:56px">\n<div>\n<p>Blancpain GT World Challenge America\,&nbsp\;is a North American auto racing series that is managed by WC Vision and sanctioned by the United States Auto Club (USAC). The World Challenge series was born in 1990 and celebrated its 25th anniversary season in 2014. The series consists of seven driver classifications and six classes of vehicles: Grand Touring (GT)\, GT Cup (new for 2015 &ndash\; for Porsche 991 Cup cars)\, GTS\, Touring Car (TC)\, &ldquo\;Touring Car B-spec&rdquo\; (TCB) since 2012\, and &ldquo\;Touring Car A&rdquo\; (TCA)\, new in 2014. In 2014\, a new GTA driver classification was established for professional drivers that do not make their living primarily from racing.</p>\n\n<p>For more information on Blancpain GT World Challenge America\,&nbsp\;<a href="https://world-challenge.com/" style="box-sizing: border-box\; transition: all 0.3s\; color: rgb(0\, 105\, 64)\;" target="_blank">click here</a>.</p>\n\n<p><strong>All current military will be admitted free and veterans will receive a 50% discount to ALL VIR events. Children 16 and under are always free with a paying adult and there is no cost for parking.</strong></p>\n\n<p>&nbsp\;</p>\n</div>\n</div>\n
LOCATION:
UID:e.845.11441
SEQUENCE:3
DTSTAMP:20260421T093730Z
URL:https://business.halifaxchamber.net/events/details/vir-raceway-blancpain-gt-world-challenge-11441
END:VEVENT

END:VCALENDAR
