BEGIN:VCALENDAR
VERSION:2.0
PRODID:-//ChamberMaster//Event Calendar 2.0//EN
METHOD:PUBLISH
X-PUBLISHED-TTL:P3D
REFRESH-INTERVAL:P3D
CALSCALE:GREGORIAN
BEGIN:VEVENT
DTSTART:20190517T120000Z
DTEND:20190519T210000Z
X-MICROSOFT-CDO-ALLDAYEVENT:FALSE
SUMMARY:VIR Raceway HyperFest-The Automotive Amusement Park
DESCRIPTION:Get ready for HyperFest\, "the Automotive Amusement Park"\, presented by Grassroots Motorsports Magazine\, the largest motorsports festival on the East Coast. This year's event will feature the USDrift Shootout\, National Auto Sport Association Road Racing\, Tire Rack Ultimate Track Car Challenge\, SpeedTrendSociety Car Show\, Japanese Classics Mega Meet\, HyperDRIVEs (where you can drive your own car on track with an instructor)\, Drifting Ride-alongs\, Racecar Ride-a-longs\, Helicopter Rides\, HPDE: High Performance Driving Event\, Time Attack\, Burnout Contest\, Off-Road Obstacle Courses and Trail Runs\, Off-Road Ride-a-longs\, Racecar Ride-a-longs\, NASA Rally Sport\, Rally Ride-a-longs\, VLMRA Lawn Mower Racing\, Models\, Karting\, Vendor Midway\, Kid Zone\, Live Music\, PRS Air Guitar Contest\, Power Wheels Downhill Attack\, Spectator Games\, Camping\, and more!\n\n \n\nFor more information about HyperFest\, click here.\n\nAll current military will be admitted free and veterans will receive a 50% discount to ALL VIR events. Children 12 and under are always free with a paying adult and there is no cost for parking.
X-ALT-DESC;FMTTYPE=text/html:<div>Get ready for HyperFest\, &ldquo\;the Automotive Amusement Park&rdquo\;\, presented by Grassroots Motorsports Magazine\, the largest motorsports festival on the East Coast.&nbsp\;This year&rsquo\;s event will feature the&nbsp\;USDrift Shootout\,&nbsp\;National Auto Sport Association Road Racing\,&nbsp\;Tire Rack Ultimate Track Car Challenge\,&nbsp\;SpeedTrendSociety Car Show\,&nbsp\;Japanese Classics Mega Meet\, HyperDRIVEs (where you can drive your own car on track with an instructor)\, Drifting Ride-alongs\, Racecar Ride-a-longs\, Helicopter Rides\, HPDE: High Performance Driving Event\, Time Attack\,&nbsp\;Burnout Contest\, Off-Road Obstacle Courses and Trail Runs\, Off-Road Ride-a-longs\, Racecar Ride-a-longs\, NASA Rally Sport\, Rally Ride-a-longs\,&nbsp\;VLMRA Lawn Mower Racing\, Models\, Karting\, Vendor Midway\, Kid Zone\, Live Music\,&nbsp\;PRS Air Guitar Contest\, Power Wheels Downhill Attack\, Spectator Games\, Camping\, and more!</div>\n\n<div>&nbsp\;</div>\n\n<div>For more information about HyperFest\,&nbsp\;<a href="https://www.hyper-fest.com/" style="box-sizing: border-box\; transition: all 0.3s\; color: rgb(0\, 105\, 64)\;" target="_blank">click here</a>.</div>\n\n<p><strong>All current military will be admitted free and veterans will receive a 50% discount&nbsp\;</strong>to<strong>&nbsp\;ALL VIR events. Children 12 and under are always free with a paying adult and there is no cost for parking.</strong></p>\n
LOCATION:VIRginia International Raceway 1245 Pine Tree Road Alton\, VA
UID:e.845.11443
SEQUENCE:3
DTSTAMP:20260421T062829Z
URL:https://business.halifaxchamber.net/events/details/vir-raceway-hyperfest-the-automotive-amusement-park-11443
END:VEVENT

END:VCALENDAR
