BEGIN:VCALENDAR
VERSION:2.0
PRODID:-//ChamberMaster//Event Calendar 2.0//EN
METHOD:PUBLISH
X-PUBLISHED-TTL:P3D
REFRESH-INTERVAL:P3D
CALSCALE:GREGORIAN
BEGIN:VEVENT
DTSTART:20190504T120000Z
DTEND:20190504T170000Z
X-MICROSOFT-CDO-ALLDAYEVENT:FALSE
SUMMARY:VIR Raceway MotoAmerica
DESCRIPTION:Professional motorcycle racing is back on the schedule. VIR is honored to be one of only ten venues across the United States to host a 2019 MotoAmerica Road Racing weekend. The three-day event includes Superbike/Superstock 1000\, Supersport and Superstock 600 races. Now in its third season\, MotoAmerica is revitalizing motorcycle road racing.
X-ALT-DESC;FMTTYPE=text/html:<span style="background-color:rgb(255\, 255\, 255)\; font-family:helveticaneue-light\,helvetica neue light\,helvetica neue\,helvetica\,arial\,lucida grande\,sans-serif\; font-size:16px">Professional motorcycle racing is back on the schedule. VIR is honored to be one of only ten venues across the United States to host a 2019&nbsp\;</span><a href="http://www.motoamerica.com/" style="font-size: 16px\; box-sizing: border-box\; transition: all 0.3s\; color: rgb(0\, 105\, 64)\; font-family: HelveticaNeue-Light\, &quot\;Helvetica Neue Light&quot\;\, &quot\;Helvetica Neue&quot\;\, Helvetica\, Arial\, &quot\;Lucida Grande&quot\;\, sans-serif\;" target="_blank">MotoAmerica</a><span style="background-color:rgb(255\, 255\, 255)\; font-family:helveticaneue-light\,helvetica neue light\,helvetica neue\,helvetica\,arial\,lucida grande\,sans-serif\; font-size:16px">&nbsp\;Road Racing weekend. The three-day event includes Superbike/Superstock 1000\, Supersport and Superstock 600 races. Now in its third season\, MotoAmerica is revitalizing motorcycle road racing.</span>
LOCATION:
UID:e.845.11442
SEQUENCE:3
DTSTAMP:20260421T075921Z
URL:https://business.halifaxchamber.net/events/details/vir-raceway-motoamerica-11442
END:VEVENT

END:VCALENDAR
