BEGIN:VCALENDAR
VERSION:2.0
PRODID:-//ChamberMaster//Event Calendar 2.0//EN
METHOD:PUBLISH
X-PUBLISHED-TTL:P3D
REFRESH-INTERVAL:P3D
CALSCALE:GREGORIAN
BEGIN:VEVENT
DTSTART;VALUE=DATE:20190412
DTEND;VALUE=DATE:20190415
TRANSP:TRANSPARENT
X-MICROSOFT-CDO-ALLDAYEVENT:TRUE
SUMMARY:VIR Raceway -SCAA Majors Tour
DESCRIPTION:The U.S. Majors Tour is the pinnacle of championship racing in North America.\n\nThis isn't Easy Street. This is where America's best amateur drivers race. It means start-to-finish\, wheel-to-wheel action. It's where drivers not only put their cars on the track\, they put their pride on the line.\n\nMake no mistake\, this is not a country club driving. The kindred spirit found here is mixed with fuel and emotion. Adrenaline pumps a little harder here.\n\nTake a close look. It's not for everyone. If you long for the flag that welcomes or denies you\, we have a spot for you. Welcome to the Majors.\n\nFor more information on the SCCA Majors Tour at VIR click here.\n\nAll current military will be admitted free and veterans will receive a 50% discount to ALL VIR events. Children 16 and under are always free with a paying adult and there is no cost for parking.
X-ALT-DESC;FMTTYPE=text/html:<div style="margin-right:56px">\n<div>\n<p>The U.S. Majors Tour is the pinnacle of championship racing in North America.</p>\n\n<p>This isn&rsquo\;t Easy Street.&nbsp\;<strong>This is where America&rsquo\;s best amateur drivers race.</strong>&nbsp\;It means start-to-finish\, wheel-to-wheel action. It&rsquo\;s where drivers not only put their cars on the track\, they put their pride on the line.</p>\n\n<p>Make no mistake\, this is not a country club driving. The kindred spirit found here is mixed with fuel and emotion. Adrenaline pumps a little harder here.</p>\n\n<p>Take a close look. It&rsquo\;s not for everyone. If you long for the flag that welcomes or denies you\, we have a spot for you. Welcome to the Majors.</p>\n\n<p>For more information on the SCCA Majors Tour at VIR&nbsp\;<a href="https://www.scca.com/events/1992804-hoosier-scca-super-tour-north-carolina-region" style="box-sizing: border-box\; transition: all 0.3s\; color: rgb(0\, 105\, 64)\;" target="_blank">click here</a>.</p>\n\n<p><strong>All current military will be admitted free and veterans will receive a 50% discount to ALL VIR events. Children 16 and under are always free with a paying adult and there is no cost for parking.</strong></p>\n</div>\n</div>\n
LOCATION:Virginia International Raceway
UID:e.845.11439
SEQUENCE:3
DTSTAMP:20260421T075853Z
URL:https://business.halifaxchamber.net/events/details/vir-raceway-scaa-majors-tour-11439
END:VEVENT

END:VCALENDAR
