BEGIN:VCALENDAR
VERSION:2.0
PRODID:-//ChamberMaster//Event Calendar 2.0//EN
METHOD:PUBLISH
X-PUBLISHED-TTL:P3D
REFRESH-INTERVAL:P3D
CALSCALE:GREGORIAN
BEGIN:VEVENT
DTSTART:20190921T210000Z
DTEND:20190921T230000Z
X-MICROSOFT-CDO-ALLDAYEVENT:FALSE
SUMMARY:Virgilina Volunteer Fire Department Ribeye Steak Supper
DESCRIPTION:The supper will be served between 5-7pm and is eat-in or take-out. The meal will include baked potato\, salad\, dessert and drink for $16 per plate. Kids' plates include chicken tenders\, fries\, slaw and drink for $8 per plate. \n\nGet tickets from any fire department member\, Slagle's Convenience Store or Town and Country Beauty Shop.
X-ALT-DESC;FMTTYPE=text/html:The supper will be served between 5-7pm and is eat-in or take-out. The meal will include baked potato\, salad\, dessert and drink for $16 per plate. Kids&#39\; plates include chicken tenders\, fries\, slaw and drink for $8 per plate.&nbsp\;<br />\nGet tickets from any fire department member\, Slagle&#39\;s Convenience Store or Town and Country Beauty Shop.
LOCATION:Virgilina Volunteer Dire Department 8052 Florence Ave Virgilina\, VA 24598
UID:e.845.13291
SEQUENCE:3
DTSTAMP:20260420T234533Z
URL:https://business.halifaxchamber.net/events/details/virgilina-volunteer-fire-department-ribeye-steak-supper-13291
END:VEVENT

END:VCALENDAR
