BEGIN:VCALENDAR
VERSION:2.0
PRODID:-//ChamberMaster//Event Calendar 2.0//EN
METHOD:PUBLISH
X-PUBLISHED-TTL:P3D
REFRESH-INTERVAL:P3D
CALSCALE:GREGORIAN
BEGIN:VEVENT
DTSTART:20190726T210000Z
DTEND:20190727T020000Z
X-MICROSOFT-CDO-ALLDAYEVENT:FALSE
SUMMARY:Virginia Cantaloupe Festival 2019
DESCRIPTION:The 39th Annual Virginia Cantaloupe Festival will be held Friday\, July 26\, 2019\, at Berry Hill Resort and Conference Center. \n\n\n\nYour Ticket includes domestic beverages wine\, ritas\, corn\, cantaloupe\, ice cream\,  (5) craft beer samples\, and entertainment!\n\n\n\n \n\nPlease note:\n\n\n\n\n- Proper ID Required for alcoholic beverage consumption\n\n- ID must be kept on person at all times\n\n- Please Think When You Drive! Bring a designated driver with your group\, and play it safe.\n\n \n\n\n\n\nBuy your tickets online at www.valopefest.com.
X-ALT-DESC;FMTTYPE=text/html:<div class="section toggle-all-details" font-size:="" helvetica="" id="description" margin-bottom:="" style="overflow: hidden\; font-family: ">\n<div class="description truncate richtext" id="description_text" style="margin: 0px\; padding: 0px\; line-height: 18px\; font-size: 12px\;">\n<div class="section toggle-all-details" font-size:="" helvetica="" id="description" margin-bottom:="" style="overflow: hidden\; font-family: ">\n<div class="description truncate richtext" id="description_text" style="margin: 0px\; padding: 0px\; line-height: 18px\; font-size: 12px\;">\n<p class="rich-large" style="border-width: 0px\; margin: 8px 0px 4px\; padding: 0px\; font-size: 16px\; font-weight: bold\; text-shadow: none\;">The&nbsp\;39th&nbsp\;Annual Virginia Cantaloupe Festival will be held Friday\, July 26\, 2019\, at Berry Hill Resort and Conference Center.&nbsp\;<br />\n<br />\nYour Ticket includes&nbsp\;domestic beverages wine\, ritas\, corn\, cantaloupe\, ice cream\,&nbsp\; (5) craft beer samples\, and entertainment!<br />\n<br />\n&nbsp\;</p>\n\n<p style="margin: 0px 0px 6px\; padding: 0px\; color: rgb(94\, 94\, 94)\;"><a href="http://www.cammy.org/winners.html" style="color: rgb(17\, 85\, 204)\;" target="_blank"><span style="color: rgb(102\, 102\, 102)\; font-size: 10px\;">Please note:</span></a></p>\n</div>\n</div>\n\n<div style="line-height: 23.11px\; font-family: arial\, sans-serif\;">\n<div class="restrictions truncate" helvetica="" id="restriction_text" style="color: rgb(102\, 102\, 102)\; line-height: 13px\;"><a href="http://www.cammy.org/winners.html" style="color: rgb(17\, 85\, 204)\;" target="_blank">- Proper ID Required for alcoholic beverage consumption<br />\n- ID must be kept on person at all times<br />\n- Please Think When You Drive! Bring a designated driver with your group\, and play it safe.</a></div>\n\n<div>&nbsp\;</div>\n</div>\n\n<p class="rich-large" style="border-width: 0px\; margin: 8px 0px 4px\; padding: 0px\; font-size: 16px\; font-weight: bold\; text-shadow: none\;"><br style="line-height: 23.11px\;" />\n<span style="line-height: 23.11px\;">Buy your tickets online at&nbsp\;</span><a href="http://www.valopefest.com" style="line-height: 23.11px\;">www.valopefest.com</a>.<br style="line-height: 23.11px\;" />\n<br style="line-height: 23.11px\;" />\n&nbsp\;</p>\n</div>\n</div>\n
LOCATION:Berry Hill Resort & Conference Center 3105 River Road South Boston\, VA 24592
UID:e.845.11455
SEQUENCE:3
DTSTAMP:20260421T044715Z
URL:https://business.halifaxchamber.net/events/details/virginia-cantaloupe-festival-2019-11455
END:VEVENT

END:VCALENDAR
