BEGIN:VCALENDAR
VERSION:2.0
PRODID:-//ChamberMaster//Event Calendar 2.0//EN
METHOD:PUBLISH
X-PUBLISHED-TTL:P3D
REFRESH-INTERVAL:P3D
CALSCALE:GREGORIAN
BEGIN:VEVENT
DTSTART:20180531T213000Z
DTEND:20180531T230000Z
X-MICROSOFT-CDO-ALLDAYEVENT:FALSE
SUMMARY:Virginia Cantaloupe Festival Sponsor Reception
DESCRIPTION:Virginia Cantaloupe Festival sponsors are invited to a reception at Berry Hill Resort. At this reception\, sponsors will pick up packets\, which include tickets and parking passes. We will also take photos of sponsors for the newspapers and website.\n \n\nRSVP online or call the Chamber at 434-572-3085. If you are unable to attend\, please send another representative from your company.
X-ALT-DESC;FMTTYPE=text/html:<div style="color: rgb(0\, 0\, 0)\; font-family: Arial\, Helvetica\, sans-serif\; font-size: 13.3333330154419px\; line-height: normal\;">\n<div style="color: rgb(0\, 0\, 0)\; font-family: Arial\, Helvetica\, sans-serif\; font-size: 13.3333330154419px\; line-height: normal\;">Virginia Cantaloupe Festival sponsors are invited to a reception at Berry Hill Resort.&nbsp\;At this reception\, sponsors will pick up packets\, which include tickets and parking passes. We will also take photos of sponsors for the newspapers and website.</div>\n&nbsp\;\n\n<div style="color: rgb(0\, 0\, 0)\; font-family: Arial\, Helvetica\, sans-serif\; font-size: 13.3333330154419px\; line-height: normal\;">RSVP online or call the Chamber at 434-572-3085. If you are unable to attend\, please send another representative from your company.&nbsp\;</div>\n</div>\n
LOCATION:Berry Hill Resort Courtyard 3105 River Road South Boston\, VA 24592
UID:e.845.8279
SEQUENCE:3
DTSTAMP:20260422T015014Z
URL:https://business.halifaxchamber.net/events/details/virginia-cantaloupe-festival-sponsor-reception-8279
END:VEVENT

END:VCALENDAR
