BEGIN:VCALENDAR
VERSION:2.0
PRODID:-//ChamberMaster//Event Calendar 2.0//EN
METHOD:PUBLISH
X-PUBLISHED-TTL:P3D
REFRESH-INTERVAL:P3D
CALSCALE:GREGORIAN
BEGIN:VEVENT
DTSTART;VALUE=DATE:20210521
DTEND;VALUE=DATE:20210522
TRANSP:TRANSPARENT
X-MICROSOFT-CDO-ALLDAYEVENT:TRUE
SUMMARY:Virginia Career Works - Hatachi ABB Job Fair
DESCRIPTION:Join a growing business focused on safety\, quality\, and customer satisfaction. Hitachi-ABB is seeking Manufacturing Team Associates in Assembly\, Winding\, and Support and Test Technicians for our world-class distribution and power transformer business. \n\nFull benefits on your date of hire\, starting rate at $13.96 for 2nd shift.\n\nAppointments Required.\n\nCall to schedule your appointment at (434) 572-8064 VA Relay 711
X-ALT-DESC;FMTTYPE=text/html:<div class="page" title="Page 1">\n<div class="layoutArea">\n<div class="column">\n<p><span style="font-size: 14.000000pt\; font-family: 'Verdana\,Bold'\; color: rgb(2.350000%\, 28.600000%\, 37.300000%)">Join a growing business focused on safety\, quality\, and customer satisfaction. Hitachi-ABB is seeking Manufacturing Team Associates in Assembly\, Winding\, and Support and Test Technicians for our world-class distribution and power transformer business.&nbsp\;</span></p>\n\n<p><span style="font-size: 14.000000pt\; font-family: 'Verdana\,Bold'\; color: rgb(2.350000%\, 28.600000%\, 37.300000%)">Full benefits on your date of hire\, starting rate at $13.96 for 2nd shift.</span></p>\n\n<p><span style="font-size: 16.000000pt\; font-family: 'Verdana\,Bold'\; color: rgb(2.350000%\, 28.600000%\, 37.300000%)">Appointments Required.</span><br>\n<span style="font-size:14px\;"><span style="font-family: &quot\;Verdana\,Bold&quot\;\; color: rgb(6\, 73\, 95)\;">Call to schedule your appointment at&nbsp\;</span></span><span style="font-size:14px\;"><span style="font-family: &quot\;Verdana\,Bold&quot\;\; color: rgb(6\, 73\, 95)\;">(434) 572-8064 </span></span><span style="font-size: 10.000000pt\; font-family: 'Verdana\,Bold'\; color: rgb(2.350000%\, 28.600000%\, 37.300000%)"><span style="font-size:14px\;">VA</span> Relay 711 </span></p>\n</div>\n</div>\n</div>\n
LOCATION:Virginia Career Works - South Boston Center 2506 Houghton Ave. South Boston\, VA 24592
UID:e.845.18011
SEQUENCE:3
DTSTAMP:20260419T142142Z
URL:https://business.halifaxchamber.net/events/details/virginia-career-works-hatachi-abb-job-fair-05-21-2021-18011
END:VEVENT

END:VCALENDAR
