BEGIN:VCALENDAR
VERSION:2.0
PRODID:-//ChamberMaster//Event Calendar 2.0//EN
METHOD:PUBLISH
X-PUBLISHED-TTL:P3D
REFRESH-INTERVAL:P3D
CALSCALE:GREGORIAN
BEGIN:VEVENT
DTSTART:20181010T123000Z
DTEND:20181010T143000Z
X-MICROSOFT-CDO-ALLDAYEVENT:FALSE
SUMMARY:Virginia Career Works Open House & Brand Reveal
DESCRIPTION:Please join the stadd of the former South Boston Workforce Center for an Open House and Brand Reveal to celebrate their new home and logo!
X-ALT-DESC;FMTTYPE=text/html:Please join the stadd of the former South Boston Workforce Center for an Open House and Brand Reveal to celebrate their new home and logo!
LOCATION:Virginia Career Works-South Boston Center 2506 Hougton Avenue South Boston\, VA 24592
UID:e.845.8526
SEQUENCE:3
DTSTAMP:20260421T171748Z
URL:https://business.halifaxchamber.net/events/details/virginia-career-works-open-house-brand-reveal-8526
END:VEVENT

END:VCALENDAR
