BEGIN:VCALENDAR
VERSION:2.0
PRODID:-//ChamberMaster//Event Calendar 2.0//EN
METHOD:PUBLISH
X-PUBLISHED-TTL:P3D
REFRESH-INTERVAL:P3D
CALSCALE:GREGORIAN
BEGIN:VEVENT
DTSTART:20181207T130000Z
DTEND:20181207T190000Z
X-MICROSOFT-CDO-ALLDAYEVENT:FALSE
SUMMARY:Virginia Economic Summit
DESCRIPTION:Panel Discussions On:\n\nWhy Virginia?\n\nCEOs from Virginia based companies will discuss the value proposition Virginia offers to the companies they lead. Virginia's assets\, such as its talented workforce and robust system of higher education coupled with a low cost of doing business are just some of the unique competitive advantages the state offers to business.\n\nPositioning Virginia For Growth In Every Corner Of The Commonwealth\n\nThe recommendations of Blueprint Virginia 2025 positions Virginia for economic growth and prosperity in every region of the state. Virginia public sector leaders are working to execute Blueprint Virginia 2025 initiatives in areas\, such as business ready sites\, workforce and talent development\, entrepreneurship\, and transformational economic development projects. Panelists will discuss these initiatives and how they will position Virginia for future growth and prosperity.\n\n\nConfirmed Speakers Include:\n\nThe Honorable Ralph Northam\, Governor of Virginia\n\nThe Honorable Brian Ball\, Virginia Secretary of Commerce and Trade\n\nThe Honorable Tommy Norment\, Majority Leader\, Senate of Virginia\n\nKatherine Rowe\, President\, College of William & Mary\n\nMark Vitner\, Managing Director and Senior Economist\, Wells Fargo Securities\n\nJennifer Boykin\, Executive Vice President\, Huntington Ingalls Industries\, Inc.\n\nand President\, Newport News Shipbuilding\n\nKen Sullivan\, President & CEO\, Smithfield Foods\n\nHoward Willard\, Chairman & CEO\, Altria\n\nCalvin "Woody" Fowler\, Jr.\, President & CEO\, Williams Mullen\n\nJohn O. "Dubby" Wynne\, Chairman\, Virginia Growth and Opportunity Board\n\nDave Henderson\, President\, United States Operations\, Commercial &\n\nState Government\, CGI\n\nEvan Feinman\, Executive Director\, Tobacco Region Revitalization Commission and\n\nChief Broadband Advisor\, Office of Governor Ralph S. Northam\n\nStephen Moret\, President & CEO\, Virginia Economic Development Partnership\n\nChris Lloyd\, Sr. VP & Director\, Infrastructure & Economic Development\,\n\nMcGuireWoods Consulting LLC
X-ALT-DESC;FMTTYPE=text/html:<h2 style="box-sizing: inherit\; clear: both\; font-family: source-sans-pro\; font-weight: 700\; color: rgb(0\, 71\, 127)\; margin: 0px\; padding: 0px\; text-size-adjust: auto\; text-align: center\;">Panel Discussions On:</h2>\n\n<p style="box-sizing: inherit\; margin-bottom: 1.5em\; caret-color: rgb(64\, 64\, 64)\; color: rgb(64\, 64\, 64)\; font-family: source-sans-pro\; font-size: 16px\; text-size-adjust: auto\; text-align: center\;"><strong style="box-sizing: inherit\;">Why Virginia?</strong><br style="box-sizing: inherit\;" />\nCEOs from Virginia based companies will discuss the value proposition Virginia offers to the companies they lead. Virginia&rsquo\;s assets\, such as its talented workforce and robust system of higher education coupled with a low cost of doing business are just some of the unique competitive advantages the state offers to business.</p>\n\n<p style="box-sizing: inherit\; margin-bottom: 1.5em\; caret-color: rgb(64\, 64\, 64)\; color: rgb(64\, 64\, 64)\; font-family: source-sans-pro\; font-size: 16px\; text-size-adjust: auto\; text-align: center\;"><strong style="box-sizing: inherit\;">Positioning Virginia For Growth In Every Corner Of The Commonwealth</strong><br style="box-sizing: inherit\;" />\nThe recommendations of Blueprint Virginia 2025 positions Virginia for economic growth and prosperity in every region of the state. Virginia public sector leaders are working to execute Blueprint Virginia 2025 initiatives in areas\, such as business ready sites\, workforce and talent development\, entrepreneurship\, and transformational economic development projects. Panelists will discuss these initiatives and how they will position Virginia for future growth and prosperity.</p>\n\n<hr style="box-sizing: content-box\; height: 1px\; background-color: rgb(204\, 204\, 204)\; border-top: 0px\; margin-bottom: 1.5em\; caret-color: rgb(64\, 64\, 64)\; color: rgb(64\, 64\, 64)\; font-family: source-sans-pro\; font-size: 16px\; text-size-adjust: auto\;" />\n<h2 style="box-sizing: inherit\; clear: both\; font-family: source-sans-pro\; font-weight: 700\; color: rgb(0\, 71\, 127)\; margin: 0px\; padding: 0px\; text-size-adjust: auto\;">Confirmed Speakers Include:</h2>\n\n<p style="box-sizing: inherit\; margin-bottom: 1.5em\; caret-color: rgb(64\, 64\, 64)\; color: rgb(64\, 64\, 64)\; font-family: source-sans-pro\; font-size: 16px\; text-size-adjust: auto\;"><strong style="box-sizing: inherit\;">The Honorable Ralph Northam</strong>\, Governor of Virginia<br style="box-sizing: inherit\;" />\n<strong style="box-sizing: inherit\;">The Honorable Brian Ball</strong>\, Virginia Secretary of Commerce and Trade<br style="box-sizing: inherit\;" />\n<strong style="box-sizing: inherit\;">The Honorable Tommy Norment</strong>\, Majority Leader\, Senate of Virginia<br style="box-sizing: inherit\;" />\n<strong style="box-sizing: inherit\;">Katherine Rowe</strong>\, President\, College of William &amp\; Mary<br style="box-sizing: inherit\;" />\n<strong style="box-sizing: inherit\;">Mark Vitner\,</strong> Managing Director and Senior Economist\, Wells Fargo Securities<br style="box-sizing: inherit\;" />\n<strong style="box-sizing: inherit\;">Jennifer Boykin</strong>\, Executive Vice President\, Huntington Ingalls Industries\, Inc.<br style="box-sizing: inherit\;" />\nand President\, Newport News Shipbuilding<br style="box-sizing: inherit\;" />\n<strong style="box-sizing: inherit\;">Ken Sullivan</strong>\, President &amp\; CEO\, Smithfield Foods<br style="box-sizing: inherit\;" />\n<strong style="box-sizing: inherit\;">Howard Willard</strong>\, Chairman &amp\; CEO\, Altria<br style="box-sizing: inherit\;" />\n<strong style="box-sizing: inherit\;">Calvin &ldquo\;Woody&rdquo\; Fowler\, Jr.</strong>\, President &amp\; CEO\, Williams Mullen<br style="box-sizing: inherit\;" />\n<strong style="box-sizing: inherit\;">John O. &ldquo\;Dubby&rdquo\; Wynne\,</strong> Chairman\, Virginia Growth and Opportunity Board<br style="box-sizing: inherit\;" />\n<strong style="box-sizing: inherit\;">Dave Henderson</strong>\, President\, United States Operations\, Commercial &amp\;<br style="box-sizing: inherit\;" />\nState Government\, CGI<br style="box-sizing: inherit\;" />\n<strong style="box-sizing: inherit\;">Evan Feinman</strong>\, Executive Director\, Tobacco Region Revitalization Commission and<br style="box-sizing: inherit\;" />\nChief Broadband Advisor\, Office of Governor Ralph S. Northam<br style="box-sizing: inherit\;" />\n<strong style="box-sizing: inherit\;">Stephen Moret</strong>\, President &amp\; CEO\, Virginia Economic Development Partnership<br style="box-sizing: inherit\;" />\n<strong style="box-sizing: inherit\;">Chris Lloyd</strong>\, Sr. VP &amp\; Director\, Infrastructure &amp\; Economic Development\,<br style="box-sizing: inherit\;" />\nMcGuireWoods Consulting LLC</p>\n
LOCATION:The Williamsburg Lodge Williamsburg\, VA
UID:e.845.8609
SEQUENCE:3
DTSTAMP:20260421T135803Z
URL:https://business.halifaxchamber.net/events/details/virginia-economic-summit-8609
END:VEVENT

END:VCALENDAR
