BEGIN:VCALENDAR
VERSION:2.0
PRODID:-//ChamberMaster//Event Calendar 2.0//EN
METHOD:PUBLISH
X-PUBLISHED-TTL:P3D
REFRESH-INTERVAL:P3D
CALSCALE:GREGORIAN
BEGIN:VEVENT
DTSTART:20191005T130000Z
DTEND:20191005T130000Z
X-MICROSOFT-CDO-ALLDAYEVENT:FALSE
SUMMARY:Virginia Family Nutrition Program 5K Fun Run & Walk
DESCRIPTION:5K participants are entered to win 1 of 4 bikes (M/F Adult & M/F Youth) donated by Halifax Farmers Market. Prize drawing held the day of race.\n\nFREE pedometer for first 30 who register.\n\nMore info & registration:\n\nMaria Traynham\n\n434-476-2147\n\nmtray67@vt.edu
X-ALT-DESC;FMTTYPE=text/html:5K participants are entered to win 1 of 4 bikes (M/F Adult &amp\; M/F Youth) donated by Halifax Farmers Market. Prize drawing held the day of race.<br />\nFREE pedometer for first 30 who register.<br />\nMore info &amp\; registration:<br />\nMaria Traynham<br />\n434-476-2147<br />\nmtray67@vt.edu
LOCATION:Halifax Farmers Market 209 South Main Street Halifax\, VA 24558 Race packet pick-up: 171 South Main St. Halifax\, VA 24558
UID:e.845.13275
SEQUENCE:3
DTSTAMP:20260420T220153Z
URL:https://business.halifaxchamber.net/events/details/virginia-family-nutrition-program-5k-fun-run-walk-13275
END:VEVENT

END:VCALENDAR
