BEGIN:VCALENDAR
VERSION:2.0
PRODID:-//ChamberMaster//Event Calendar 2.0//EN
METHOD:PUBLISH
X-PUBLISHED-TTL:P3D
REFRESH-INTERVAL:P3D
CALSCALE:GREGORIAN
BEGIN:VEVENT
DTSTART:20160312T003000Z
DTEND:20160312T020000Z
X-MICROSOFT-CDO-ALLDAYEVENT:FALSE
SUMMARY:Virginia Opera's Evening of Opera and Broadway
DESCRIPTION:A night of Opera and Broadway music featuring singers from the Virginia Opera.
X-ALT-DESC;FMTTYPE=text/html:A night of Opera and Broadway music featuring singers from the Virginia Opera.
LOCATION:The Prizery 700 Bruce Street South Boston\, VA 24592
UID:e.845.4592
SEQUENCE:3
DTSTAMP:20260425T111920Z
URL:https://business.halifaxchamber.net/events/details/virginia-opera-s-evening-of-opera-and-broadway-03-11-2016-4592
END:VEVENT

END:VCALENDAR
