BEGIN:VCALENDAR
VERSION:2.0
PRODID:-//ChamberMaster//Event Calendar 2.0//EN
METHOD:PUBLISH
X-PUBLISHED-TTL:P3D
REFRESH-INTERVAL:P3D
CALSCALE:GREGORIAN
BEGIN:VEVENT
DTSTART:20200625T170000Z
DTEND:20200625T180000Z
X-MICROSOFT-CDO-ALLDAYEVENT:FALSE
SUMMARY:Virginia Unemployment Insurance Webinar
DESCRIPTION:Join us for a webinar with the Virginia Employment Commission to provide updates on unemployment benefits\, claims\, and policies.
X-ALT-DESC;FMTTYPE=text/html:Join us for a webinar with the Virginia Employment Commission to provide updates on unemployment benefits\, claims\, and policies.
LOCATION:Register via Zoom https://us02web.zoom.us/webinar/register/WN_0vD-6C9ATEeQwyiALsbYnw
UID:e.845.17708
SEQUENCE:3
DTSTAMP:20260420T082459Z
URL:https://business.halifaxchamber.net/events/details/virginia-unemployment-insurance-webinar-17708
END:VEVENT

END:VCALENDAR
