BEGIN:VCALENDAR
VERSION:2.0
PRODID:-//ChamberMaster//Event Calendar 2.0//EN
METHOD:PUBLISH
X-PUBLISHED-TTL:P3D
REFRESH-INTERVAL:P3D
CALSCALE:GREGORIAN
BEGIN:VEVENT
DTSTART;VALUE=DATE:20200629
DTEND;VALUE=DATE:20200704
TRANSP:TRANSPARENT
X-MICROSOFT-CDO-ALLDAYEVENT:TRUE
SUMMARY:Virginia Youth Camp 2020 "Pursue"
DESCRIPTION:Don't miss what could the most incredible week of your life! Register online today or speak to your pastor or youth leader. Velocity Camp is for ages 11-13. $160 by April 22\, $185 by May 20\, $210 Walk on date.
X-ALT-DESC;FMTTYPE=text/html:Don&#39\;t miss what could the most incredible week of your life! Register online today or speak to your pastor or youth leader. Velocity Camp is for ages 11-13. $160 by April 22\, $185 by May 20\, $210 Walk on date.&nbsp\;
LOCATION:
UID:e.845.17479
SEQUENCE:3
DTSTAMP:20260420T063043Z
URL:https://business.halifaxchamber.net/events/details/virginia-youth-camp-2020-pursue-06-29-2020-17479
END:VEVENT

END:VCALENDAR
