BEGIN:VCALENDAR
VERSION:2.0
PRODID:-//ChamberMaster//Event Calendar 2.0//EN
METHOD:PUBLISH
X-PUBLISHED-TTL:P3D
REFRESH-INTERVAL:P3D
CALSCALE:GREGORIAN
BEGIN:VEVENT
DTSTART:20201022T223000Z
DTEND:20201022T230000Z
X-MICROSOFT-CDO-ALLDAYEVENT:FALSE
SUMMARY:Virtual Domestic Violence Vigil
DESCRIPTION:Tri-County will have their first Virtual Vigil on Thursday\, October 22\, 2020 from 6:30 pm - 7 pm.\n\nOctober is Domestic Violence Awareness Month. This October\, we will honor those killed because of DV and share information that can help those who are experiencing violence during this unprecedented time.
X-ALT-DESC;FMTTYPE=text/html:<div class="kvgmc6g5 cxmmr5t8 oygrvhab hcukyx3x c1et5uql" style="overflow-wrap: break-word\; margin: 0px\; font-family: system-ui\, -apple-system\, system-ui\, &quot\;.SFNSText-Regular&quot\;\, sans-serif\; color: rgb(5\, 5\, 5)\; font-size: 15px\;">Tri-County will have their first Virtual Vigil on Thursday\, October 22\, 2020 from 6:30 pm - 7 pm.</div>\n\n<div class="o9v6fnle cxmmr5t8 oygrvhab hcukyx3x c1et5uql" style="overflow-wrap: break-word\; margin: 0.5em 0px 0px\; font-family: system-ui\, -apple-system\, system-ui\, &quot\;.SFNSText-Regular&quot\;\, sans-serif\; color: rgb(5\, 5\, 5)\; font-size: 15px\;">October is Domestic Violence Awareness Month. This October\, we will honor those killed because of DV and share information that can help those who are experiencing violence during this unprecedented time.</div>\n
LOCATION:Via Zoom at https://us02web.zoom.us/j/6141736042?pwd=RGljQkE3S0ZuRkNhRXBMaTFDbHhXdz09&fbclid=IwAR2lM3B84gsWHa-hmF6ZTK4brZbbBzxnlGzn8ldnJUUszXCjNMJ6hTGmni8#success
UID:e.845.17803
SEQUENCE:3
DTSTAMP:20260420T012505Z
URL:https://business.halifaxchamber.net/events/details/virtual-domestic-violence-vigil-17803
END:VEVENT

END:VCALENDAR
