BEGIN:VCALENDAR
VERSION:2.0
PRODID:-//ChamberMaster//Event Calendar 2.0//EN
METHOD:PUBLISH
X-PUBLISHED-TTL:P3D
REFRESH-INTERVAL:P3D
CALSCALE:GREGORIAN
BEGIN:VEVENT
DTSTART:20210306T200000Z
DTEND:20210306T200000Z
X-MICROSOFT-CDO-ALLDAYEVENT:FALSE
SUMMARY:Virtual Flower Workshop
DESCRIPTION:Join Wister's for their first virtual workshop. \n\nLearn new techniques and design your own arrangement in a keepsake vase from the comfort of your own home. With your ticket\, you will get a kit with all of the items you'll need for your work of art - your vase\, scissors\, mechanics\, and flowers.\n\nKits will be available March 4th-6th (before 3pm on the 6th).\n\n*Because orders must order all supplies ahead of time\, there will be no refunds after February 15th.
X-ALT-DESC;FMTTYPE=text/html:Join Wister&#39\;s for their first virtual workshop.&nbsp\;<br />\nLearn new techniques and design your own arrangement in a keepsake vase from the comfort of your own home. With your ticket\, you will get a kit with all of the items you&#39\;ll need for your work of art - your vase\, scissors\, mechanics\, and flowers.<br />\nKits will be available March 4th-6th (before 3pm on the 6th).<br />\n*Because orders must order all supplies ahead of time\, there will be no refunds after February 15th.
LOCATION:Once you purchase your ticket\, you will be added to a private Facebook group and the virtual workshop will be held through a Facebook live video on March 6th at 3pm. Purchase your ticket at https://www.amandadayrose.com/shop/0pvztr5pz8070lf8dbwn2oqssk3f2r?fbclid=IwAR3TtmD3HaqOeZ3BTRnTWBSEVJhRWVLIa4Br70Hx-NIwwoTvbpcUuka4YF0
UID:e.845.17829
SEQUENCE:3
DTSTAMP:20260419T164621Z
URL:https://business.halifaxchamber.net/events/details/virtual-flower-workshop-17829
END:VEVENT

END:VCALENDAR
