BEGIN:VCALENDAR
VERSION:2.0
PRODID:-//ChamberMaster//Event Calendar 2.0//EN
METHOD:PUBLISH
X-PUBLISHED-TTL:P3D
REFRESH-INTERVAL:P3D
CALSCALE:GREGORIAN
BEGIN:VEVENT
DTSTART:20200430T213000Z
DTEND:20200430T223000Z
X-MICROSOFT-CDO-ALLDAYEVENT:FALSE
SUMMARY:Virtual Happy Hour
DESCRIPTION:Grab your favorite beverage and join Kelly Gordon to learn how to make your favorite Springfield cocktails LIVE! All participants will be entered to win a door prize!
X-ALT-DESC;FMTTYPE=text/html:Grab your favorite beverage and join Kelly Gordon to learn how to make your favorite Springfield cocktails LIVE! All participants will be entered to win a door prize!
LOCATION:Via Zoom A link will be emailed to you after you register
UID:e.845.17582
SEQUENCE:3
DTSTAMP:20260420T114241Z
URL:https://business.halifaxchamber.net/events/details/virtual-happy-hour-17582
END:VEVENT

END:VCALENDAR
